Workbook

Sheet TFL-1A
F1: XYZ Company Xp3 Trial Vehicle MPG Summary
F2: Driver Name/ID:
F3: Vehicle ID/Number:
F4: Consultant Name:
F5: Contact Number:
F6: Date:
A8: Tanks 1-10 Without Xp3 | E8: MPG W/Out Xp3 | F8: Tanks #16-#31 With Xp3 | J8: MPG With Xp3
A9: Fill Tank Completely & Record Odometer | E9: Starting Tank | F9: Tanks #16 - #31 Were Treated With Xp3 | J9: -------------------
A10: Odometer- | C10: Gal. Filled | D10: X | E10: ----------------- | F10: Tank #16: (Treated With Xp3) | J10: Tank #16
A11: Tank #1: (Without Xp3) | E11: Tank #1 | F11: Odometer- | H11: Gal. Filled | J11: =IF(G11="","",SUM((G11-B41)/(I11)))
A12: Odometer - | C12: Gal. Filled | E12: =IF(B12="","",SUM((B12-B10)/(D12))) | F12: Tank #17: (Treated With Xp3) | J12: Tank #17
A13: Tank #2: (Without Xp3) | E13: Tank #2 | F13: Odometer- | H13: Gal. Filled | J13: =IF(G13="","",SUM((G13-G11)/(I13)))
A14: Odometer - | C14: Gal. Filled | E14: =IF(B14="","",SUM((B14-B12)/(D14))) | F14: Tank #18: (Treated With Xp3) | J14: Tank #18
A15: Tank #3: (Without Xp3) | E15: Tank #3 | F15: Odometer- | H15: Gal. Filled | J15: =IF(G15="","",SUM((G15-G13)/(I15)))
A16: Odometer - | C16: Gal. Filled | E16: =IF(B16="","",SUM((B16-B14)/(D16))) | F16: Tank #19: (Treated With Xp3) | J16: Tank #19
A17: Tank #4: (Without Xp3) | E17: Tank #4 | F17: Odometer- | H17: Gal. Filled | J17: =IF(G17="","",SUM((G17-G15)/(I17)))
A18: Odomter - | C18: Gal. Filled | E18: =IF(B18="","",SUM((B18-B16)/(D18))) | F18: Tank #20: (Treated With Xp3) | J18: Tank #20
A19: Tank #5: (Without Xp3) | E19: Tank #5 | F19: Odometer- | H19: Gal. Filled | J19: =IF(G19="","",SUM((G19-G17)/(I19)))
A20: Odometer - | C20: Gal. Filled | E20: =IF(B20="","",SUM((B20-B18)/(D20))) | F20: Tank #21: (Treated With Xp3) | J20: Tank #21
A21: Tank #6: (Without Xp3) | E21: Tank #6 | F21: Odometer- | H21: Gal. Filled | J21: =IF(G21="","",SUM((G21-G19)/(I21)))
A22: Odometer - | C22: Gal. Filled | E22: =IF(B22="","",SUM((B22-B20)/(D22))) | F22: Tank #22: (Treated With Xp3) | J22: Tank #22
A23: Tank #7: (Without Xp3) | E23: Tank #7 | F23: Odometer- | H23: Gal. Filled | J23: =IF(G23="","",SUM((G23-G21)/(I23)))
A24: Odometer - | C24: Gal. Filled | E24: =IF(B24="","",SUM((B24-B22)/(D24))) | F24: Tank #23: (Treated With Xp3) | J24: Tank #23
A25: Tank #8: (Without Xp3) | E25: Tank #8 | F25: Odometer- | H25: Gal. Filled | J25: =IF(G25="","",SUM((G25-G23)/(I25)))
A26: Odometer - | C26: Gal. Filled | E26: =IF(B26="","",SUM((B26-B24)/(D26))) | F26: Tank #24: (Treated With Xp3) | J26: Tank #24
A27: Tank #9: (Without Xp3) | E27: Tank #9 | F27: Odometer- | H27: Gal. Filled | J27: =IF(G27="","",SUM((G27-G25)/(I27)))
A28: Odometer - | C28: Gal. Filled | E28: =IF(B28="","",SUM((B28-B26)/(D28))) | F28: Tank #25: (Treated With Xp3) | J28: Tank #25
A29: Tank #10): (Final Tank Without Xp3) | E29: Tank #10 | F29: Odometer- | H29: Gal. Filled | J29: =IF(G29="","",SUM((G29-G27)/(I29)))
A30: Odometer - | C30: Gal. Filled | E30: =IF(B30="","",SUM((B30-B28)/(D30))) | F30: Tank #26: (Treated With Xp3) | J30: Tank #26
A31: Tanks #11 - #15 Treated With Xp3 | E31: Started Using Xp3 Tank #11 | F31: Odometer- | H31: Gal. Filled | J31: =IF(G31="","",SUM((G31-G29)/(I31)))
A32: Tank #11: (Started Treating With Xp3) | E32: Tank #11 | F32: Tank #27: (Treated With Xp3) | J32: Tank #27
A33: Odometer - | C33: Gal. Filled | E33: =IF(B33="","",SUM((B33-B30)/(D33))) | F33: Odometer- | H33: Gal. Filled | J33: =IF(G33="","",SUM((G33-G31)/(I33)))
A34: Tank #12: (Treated With Xp3) | E34: Tank #12 | F34: Tank #28: (Treated With Xp3) | J34: Tank #28
A35: Odometer - | C35: Gal. Filled | E35: =IF(B35="","",SUM((B35-B33)/(D35))) | F35: Odometer- | H35: Gal. Filled | J35: =IF(G35="","",SUM((G35-G33)/(I35)))
A36: Tank #13: (Treated With Xp3) | E36: Tank #13 | F36: Tank #29: (Treated With Xp3) | J36: Tank #29
A37: Odometer - | C37: Gal. Filled | E37: =IF(B37="","",SUM((B37-B35)/(D37))) | F37: Odometer- | H37: Gal. Filled | J37: =IF(G37="","",SUM((G37-G35)/(I37)))
A38: Tank #14: (Treated With Xp3) | E38: Tank #14 | F38: Tank #30: (Treated With Xp3) | J38: Tank #30
A39: Odometer - | C39: Gal. Filled | E39: =IF(B39="","",SUM((B39-B37)/(D39))) | F39: Odometer- | H39: Gal. Filled | J39: =IF(G39="","",SUM((G39-G37)/(I39)))
A40: Tank #15): (Treated With Xp3) | E40: Tank #15 | F40: Tank #31: (Treated With Xp3) | J40: Tank #31
A41: Odometer - | C41: Gal. Filled | E41: =IF(B41="","",SUM((B41-B39)/(D41))) | F41: Odometer- | H41: Gal. Filled | J41: =IF(G41="","",SUM((G41-G39)/(I41)))
F42: Average MPG Tanks #12 -#31 Treated With Xp3: | J42: =IF(ISERROR(AVERAGE(E35:E41,J11:J41)),"n/a",AVERAGE(E35:E41,J11:J41)) -> n/a
B47: Place Your Company Logo Or Fuel Direct Logo Here | F47: Summary Of MPG Results: | J47: -------------------
F48: Average MPG Tanks #1- #11 Without Xp3: | J48: =IF(ISERROR(AVERAGE(E12:E33)),"n/a",(AVERAGE(E12:E33))) -> n/a
F49: Average MPG Tanks #12- #31 Treated With Xp3: | J49: =IF(ISERROR(AVERAGE(E35:E41,J11:J41)),"n/a",AVERAGE(E35:E41,J11:J41)) -> n/a
G51: =IF(ISBLANK(G41),J41,"") | J51: TFL-1A

Sheet TFL-1B
F1: ='TFL-1A'!F1 -> XYZ Company Xp3 Trial Vehicle MPG Summary
F2: ='TFL-1A'!F2 -> Driver Name/ID:
F3: ='TFL-1A'!F3 -> Vehicle ID/Number:
F4: ='TFL-1A'!F4 -> Consultant Name:
F5: ='TFL-1A'!F5 -> Contact Number:
F6: ='TFL-1A'!F6 -> Date:
A8: Tanks #32-#47 Were Treated With Xp3 | E8: MPG With Xp3 | F8: Tanks #48-#63 Were Treated With Xp3 | J8: MPG With Xp3
A9: Tank #32: (Treated With Xp3) | E9: Tank #32 | F9: Tank #48: (Treated With Xp3) | J9: Tank #48
A10: Odometer- | C10: Gal. Filled | E10: =IF(B10="","",ROUND(SUM((B10-'TFL-1A'!G41)/(D10)),2)) | F10: Odometer- | H10: Gal. Filled | J10: =IF(G10="","",ROUND(SUM((G10-B40)/(I10)),2))
A11: Tank #33: (Treated With Xp3) | E11: Tank #33 | F11: Tank #49: (Treated With Xp3) | J11: Tank #49
A12: Odometer - | C12: Gal. Filled | E12: =IF(B12="","",ROUND(SUM((B12-B10)/(D12)),2)) | F12: Odometer- | H12: Gal. Filled | J12: =IF(G12="","",ROUND(SUM((G12-G10)/(I12)),2))
A13: Tank #34: (Treated With Xp3) | E13: Tank #34 | F13: Tank #50: (Treated With Xp3) | J13: Tank #50
A14: Odometer - | C14: Gal. Filled | E14: =IF(B14="","",ROUND(SUM((B14-B12)/(D14)),2)) | F14: Odometer- | H14: Gal. Filled | J14: =IF(G14="","",ROUND(SUM((G14-G12)/(I14)),2))
A15: Tank #35: (Treated With Xp3) | E15: Tank #35 | F15: Tank #51: (Treated With Xp3) | J15: Tank #51
A16: Odometer - | C16: Gal. Filled | E16: =IF(B16="","",ROUND(SUM((B16-B14)/(D16)),2)) | F16: Odometer- | H16: Gal. Filled | J16: =IF(G16="","",ROUND(SUM((G16-G14)/(I16)),2))
A17: Tank #36: (Treated With Xp3) | E17: Tank #36 | F17: Tank #52: (Treated With Xp3) | J17: Tank #52
A18: Odomter - | C18: Gal. Filled | E18: =IF(B18="","",ROUND(SUM((B18-B16)/(D18)),2)) | F18: Odometer- | H18: Gal. Filled | J18: =IF(G18="","",ROUND(SUM((G18-G16)/(I18)),2))
A19: Tank #37: (Treated With Xp3) | E19: Tank #37 | F19: Tank #53: (Treated With Xp3) | J19: Tank #53
A20: Odometer - | C20: Gal. Filled | E20: =IF(B20="","",ROUND(SUM((B20-B18)/(D20)),2)) | F20: Odometer- | H20: Gal. Filled | J20: =IF(G20="","",ROUND(SUM((G20-G18)/(I20)),2))
A21: Tank #38: (Treated With Xp3) | E21: Tank #38 | F21: Tank #54: (Treated With Xp3) | J21: Tank #54
A22: Odometer - | C22: Gal. Filled | E22: =IF(B22="","",ROUND(SUM((B22-B20)/(D22)),2)) | F22: Odometer- | H22: Gal. Filled | J22: =IF(G22="","",ROUND(SUM((G22-G20)/(I22)),2))
A23: Tank #39: (Treated With Xp3) | E23: Tank #39 | F23: Tank #55: (Treated With Xp3) | J23: Tank #55
A24: Odometer - | C24: Gal. Filled | E24: =IF(B24="","",ROUND(SUM((B24-B22)/(D24)),2)) | F24: Odometer- | H24: Gal. Filled | J24: =IF(G24="","",ROUND(SUM((G24-G22)/(I24)),2))
A25: Tank #40: (Treated With Xp3) | E25: Tank #40 | F25: Tank #56: (Treated With Xp3) | J25: Tank #56
A26: Odometer - | C26: Gal. Filled | E26: =IF(B26="","",ROUND(SUM((B26-B24)/(D26)),2)) | F26: Odometer- | H26: Gal. Filled | J26: =IF(G26="","",ROUND(SUM((G26-G24)/(I26)),2))
A27: Tank #41: (Treated With Xp3) | E27: Tank #41 | F27: Tank #57: (Treated With Xp3) | J27: Tank #57
A28: Odometer - | C28: Gal. Filled | E28: =IF(B28="","",ROUND(SUM((B28-B26)/(D28)),2)) | F28: Odometer- | H28: Gal. Filled | J28: =IF(G28="","",ROUND(SUM((G28-G26)/(I28)),2))
A29: Tank #42: (Treated With Xp3) | E29: Tank #42 | F29: Tank #58: (Treated With Xp3) | J29: Tank #58
A30: Odometer - | C30: Gal. Filled | E30: =IF(B30="","",ROUND(SUM((B30-B28)/(D30)),2)) | F30: Odometer- | H30: Gal. Filled | J30: =IF(G30="","",ROUND(SUM((G30-G28)/(I30)),2))
A31: Tank #43: (Treated With Xp3) | E31: Tank #43 | F31: Tank #59: (Treated With Xp3) | J31: Tank #59
A32: Odometer - | C32: Gal. Filled | E32: =IF(B32="","",ROUND(SUM((B32-B30)/(D32)),2)) | F32: Odometer- | H32: Gal. Filled | J32: =IF(G32="","",ROUND(SUM((G32-G30)/(I32)),2))
A33: Tank #44: (Treated With Xp3) | E33: Tank #44 | F33: Tank #60: (Treated With Xp3) | J33: Tank #60
A34: Odometer - | C34: Gal. Filled | E34: =IF(B34="","",ROUND(SUM((B34-B32)/(D34)),2)) | F34: Odometer- | H34: Gal. Filled | J34: =IF(G34="","",ROUND(SUM((G34-G32)/(I34)),2))
A35: Tank #45: (Treated With Xp3) | E35: Tank #45 | F35: Tank #61: (Treated With Xp3) | J35: Tank #61
A36: Odometer - | C36: Gal. Filled | E36: =IF(B36="","",ROUND(SUM((B36-B34)/(D36)),2)) | F36: Odometer- | H36: Gal. Filled | J36: =IF(G36="","",ROUND(SUM((G36-G34)/(I36)),2))
A37: Tank #46: (Treated With Xp3) | E37: Tank #46 | F37: Tank #62: (Treated With Xp3) | J37: Tank #62
A38: Odometer - | C38: Gal. Filled | E38: =IF(B38="","",ROUND(SUM((B38-B36)/(D38)),2)) | F38: Odometer- | H38: Gal. Filled | J38: =IF(G38="","",ROUND(SUM((G38-G36)/(I38)),2))
A39: Tank #47: (Treated With Xp3) | E39: Tank #47 | F39: Tank #63: (Treated With Xp3) | J39: Tank #63
A40: Odometer - | C40: Gal. Filled | E40: =IF(B40="","",ROUND(SUM((B40-B38)/(D40)),2)) | F40: Odometer- | H40: Gal. Filled | J40: =IF(G40="","",ROUND(SUM((G40-G38)/(I40)),2))
F41: Average MPG Tank #32 Thru Tank #63 Treated With Xp3: | J41: =IF(ISERROR(AVERAGE(E10:E40,J10:J40)),"n/a",AVERAGE(E10:E40,J10:J40)) -> n/a
F42: Summary of MPG Results: | J42: -------------------
F43: Average MPG Tanks #1- #11 Without Xp3: | J43: =IF(ISERROR(ROUND(('TFL-1A'!J48),2)),"n/a",ROUND(('TFL-1A'!J48),2)) -> n/a
B44: Place Your Company Logo Or Fuel Direct Logo Here | F44: Average MPG Tanks #12 Thru #31 Treated With Xp3: | J44: =IF(ISERROR(ROUND(('TFL-1A'!J49),2)),"n/a",ROUND(('TFL-1A'!J49),2)) -> n/a
F45: Average MPG Tanks #32 Thru #63 Treated With Xp3: | J45: =IF(ISERROR(ROUND(J41,2)),"n/a",ROUND(J41,2)) -> n/a
F46: Total Average MPG Tanks #12 Thru #63 Treated With Xp3: | J46: =IF(ISERROR(ROUND(SUM((J45+J44)/(2)),2)),"n/a",ROUND(SUM((J45+J44)/(2)),2)) -> n/a
J48: TFL-1B
G49: =IF(ISBLANK(G40),J40,"")

Sheet TFL-1C
F1: ='TFL-1A'!F1 -> XYZ Company Xp3 Trial Vehicle MPG Summary
F2: ='TFL-1A'!F2 -> Driver Name/ID:
F3: ='TFL-1A'!F3 -> Vehicle ID/Number:
F4: ='TFL-1A'!F4 -> Consultant Name:
F5: ='TFL-1A'!F5 -> Contact Number:
F6: ='TFL-1A'!F6 -> Date:
A8: Tanks #64-#79 Were Treated With Xp3 | E8: MPG With Xp3 | F8: Tanks #80-#95 Were Treated With Xp3 | J8: MPG With Xp3
A9: Tank #64 (Treated With Xp3) | E9: Tank #64 | F9: Tank #80: (Treated With Xp3) | J9: Tank #80
A10: Odometer- | C10: Fuel Gal. | E10: =IF(B10="","",SUM((B10-'TFL-1B'!G40)/(D10))) | F10: Odometer- | H10: Fuel Gal.- | J10: =IF(G10="","",ROUND(SUM((G10-B40)/(I10)),2))
A11: Tank #65 (Treated With Xp3) | E11: Tank #65 | F11: Tank #81: (Treated With Xp3) | J11: Tank #81
A12: Odometer - | C12: Fuel Gal. - | E12: =IF(B12="","",SUM((B12-B10)/(D12))) | F12: Odometer- | H12: Fuel Gal.- | J12: =IF(G12="","",ROUND(SUM((G12-G10)/(I12)),2))
A13: Tank #66 (Treated With Xp3) | E13: Tank #66 | F13: Tank #82: (Treated With Xp3) | J13: Tank #82
A14: Odometer - | C14: Fuel Gal. - | E14: =IF(B14="","",SUM((B14-B12)/(D14))) | F14: Odometer- | H14: Fuel Gal.- | J14: =IF(G14="","",ROUND(SUM((G14-G12)/(I14)),2))
A15: Tank #67 (Treated With Xp3) | E15: Tank #67 | F15: Tank #83: (Treated With Xp3) | J15: Tank #83
A16: Odometer - | C16: Fuel Gal. - | E16: =IF(B16="","",SUM((B16-B14)/(D16))) | F16: Odometer- | H16: Fuel Gal.- | J16: =IF(G16="","",ROUND(SUM((G16-G14)/(I16)),2))
A17: Tank #68 (Treated With Xp3) | E17: Tank #68 | F17: Tank #84: (Treated With Xp3) | J17: Tank #84
A18: Odomter - | C18: Fuel Gal. - | E18: =IF(B18="","",SUM((B18-B16)/(D18))) | F18: Odometer- | H18: Fuel Gal.- | J18: =IF(G18="","",ROUND(SUM((G18-G16)/(I18)),2))
A19: Tank #69 (Treated With Xp3) | E19: Tank #69 | F19: Tank #85: (Treated With Xp3) | J19: Tank #85
A20: Odometer - | C20: Fuel Gal.- | E20: =IF(B20="","",SUM((B20-B18)/(D20))) | F20: Odometer- | H20: Fuel Gal.- | J20: =IF(G20="","",ROUND(SUM((G20-G18)/(I20)),2))
A21: Tank #70 (Treated With Xp3) | E21: Tank #70 | F21: Tank #86: (Treated With Xp3) | J21: Tank #86
A22: Odometer - | C22: Fuel Gal. - | E22: =IF(B22="","",SUM((B22-B20)/(D22))) | F22: Odometer- | H22: Fuel Gal.- | J22: =IF(G22="","",ROUND(SUM((G22-G20)/(I22)),2))
A23: Tank #71 (Treated With Xp3) | E23: Tank #71 | F23: Tank #87: (Treated With Xp3) | J23: Tank #87
A24: Odometer - | C24: Fuel Gal. - | E24: =IF(B24="","",SUM((B24-B22)/(D24))) | F24: Odometer- | H24: Fuel Gal.- | J24: =IF(G24="","",ROUND(SUM((G24-G22)/(I24)),2))
A25: Tank #72 (Treated With Xp3) | E25: Tank #72 | F25: Tank #88: (Treated With Xp3) | J25: Tank #88
A26: Odometer - | C26: Fuel Gal. - | E26: =IF(B26="","",SUM((B26-B24)/(D26))) | F26: Odometer- | H26: Fuel Gal.- | J26: =IF(G26="","",ROUND(SUM((G26-G24)/(I26)),2))
A27: Tank #73 (Treated With Xp3) | E27: Tank #73 | F27: Tank #89: (Treated With Xp3) | J27: Tank #89
A28: Odometer - | C28: Fuel Gal. - | E28: =IF(B28="","",SUM((B28-B26)/(D28))) | F28: Odometer- | H28: Fuel Gal.- | J28: =IF(G28="","",ROUND(SUM((G28-G26)/(I28)),2))
A29: Tank #74 (Treated With Xp3) | E29: Tank #74 | F29: Tank #90: (Treated With Xp3) | J29: Tank #90
A30: Odometer - | C30: Fuel Gal.- | E30: =IF(B30="","",SUM((B30-B28)/(D30))) | F30: Odometer- | H30: Fuel Gal.- | J30: =IF(G30="","",ROUND(SUM((G30-G28)/(I30)),2))
A31: Tank #75 (Treated With Xp3) | E31: Tank #75 | F31: Tank #91: (Treated With Xp3) | J31: Tank #91
A32: Odometer - | C32: Fuel Gal. - | E32: =IF(B32="","",SUM((B32-B30)/(D32))) | F32: Odometer- | H32: Fuel Gal.- | J32: =IF(G32="","",ROUND(SUM((G32-G30)/(I32)),2))
A33: Tank #76 (Treated With Xp3) | E33: Tank #76 | F33: Tank #92: (Treated With Xp3) | J33: Tank #92
A34: Odometer - | C34: Fuel Gal. - | E34: =IF(B34="","",SUM((B34-B32)/(D34))) | F34: Odometer- | H34: Fuel Gal.- | J34: =IF(G34="","",ROUND(SUM((G34-G32)/(I34)),2))
A35: Tank #77 (Treated With Xp3) | E35: Tank #77 | F35: Tank #93: (Treated With Xp3) | J35: Tank #93
A36: Odometer - | C36: Fuel Gal. - | E36: =IF(B36="","",SUM((B36-B34)/(D36))) | F36: Odometer- | H36: Fuel Gal.- | J36: =IF(G36="","",ROUND(SUM((G36-G34)/(I36)),2))
A37: Tank #78 (Treated With Xp3) | E37: Tank #78 | F37: Tank #94: (Treated With Xp3) | J37: Tank #94
A38: Odometer - | C38: Fuel Gal. - | E38: =IF(B38="","",SUM((B38-B36)/(D38))) | F38: Odometer- | H38: Fuel Gal.- | J38: =IF(G38="","",ROUND(SUM((G38-G36)/(I38)),2))
A39: Tank #79 (Treated With Xp3) | E39: Tank #79 | F39: Tank #95: (Final Tank Treated With Xp3) | J39: Tank #95
A40: Odometer - | C40: Fuel Gal.- | E40: =IF(B40="","",SUM((B40-B38)/(D40))) | F40: Odometer- | H40: Fuel Gal.- | J40: =IF(G40="","",ROUND(SUM((G40-G38)/(I40)),2))
F41: Average MPG Tank #64 Thru Tank #95 Treated With Xp3: | J41: =IF(ISERROR(AVERAGE(E10:E40,J10:J40)),"n/a",AVERAGE(E10:E40,J10:J40)) -> n/a
F42: Summary of MPG Results: | J42: -------------------
F43: Average MPG Tanks #1- #11 Without Xp3: | J43: =IF(ISERROR(ROUND(('TFL-1A'!J48),2)),"n/a",ROUND(('TFL-1A'!J48),2)) -> n/a | K43: =ROUND(J43,2) -> #VALUE!
B44: Place Your Company Logo Or Fuel Direct Logo Here | F44: Average MPG Tanks #12 Thru #31 Treated With Xp3: | J44: =IF(ISERROR(ROUND(('TFL-1A'!J49),2)),"n/a",ROUND(('TFL-1A'!J49),2)) -> n/a
F45: Average MPG Tanks #32 Thru #63 Treated With Xp3: | J45: =IF(ISERROR(ROUND('TFL-1B'!J41,2)),"n/a",ROUND('TFL-1B'!J41,2)) -> n/a
F46: Average MPG Tanks #64 Thru #95 Treated With Xp3: | J46: =IF(ISERROR(ROUND(J41,2)),"n/a",ROUND(J41,2)) -> n/a
F47: Average MPG Tanks #12-#95 Treated With Xp3: | J47: =IF(ISERROR(SUM((J44+J45+J46)/(3))),"n/a",SUM((J44+J45+J46)/(3))) -> n/a
F48: MPG Increase Comparing Tanks #1-#11 To Tanks #12-#95: | J48: =IF(ISERROR((SUM(J47-J43))),"n/a",SUM(J47-J43)) -> n/a | K48: =ROUND(J48,2) -> #VALUE!
F49: Total Percentage Of Overall Increase In MPG With Xp3: | J49: =IF(ISERROR(ROUND((K48/K43),2)),"n/a",ROUND((K48/K43),2)) -> n/a
J51: TFL-1C
G52: =IF(ISBLANK(G40),J40,"")

Sheet TFL-2A
F1: ='TFL-1A'!F1 -> XYZ Company Xp3 Trial Vehicle MPG Summary
F2: Driver Name/ID:
F3: Vehicle ID/Number:
F4: ='TFL-1A'!F4 -> Consultant Name:
F5: ='TFL-1A'!F5 -> Contact Number:
F6: ='TFL-1A'!F6 -> Date:
A8: Tanks 1-10 Without Xp3 | E8: MPG W/Out Xp3 | F8: Tanks #16-#31 With Xp3 | J8: MPG With Xp3
A9: Fill Tank Completely & Record Odometer | E9: Starting Tank | F9: Tanks #16 - #31 Were Treated With Xp3 | J9: -------------------
A10: Odometer- | C10: Gal. Filled | D10: X | E10: ----------------- | F10: Tank #16: (Treated With Xp3) | J10: Tank #16
A11: Tank #1: (Without Xp3) | E11: Tank #1 | F11: Odometer- | H11: Gal. Filled | J11: =IF(G11="","",SUM((G11-B41)/(I11)))
A12: Odometer - | C12: Gal. Filled | E12: =IF(B12="","",SUM((B12-B10)/(D12))) | F12: Tank #17: (Treated With Xp3) | J12: Tank #17
A13: Tank #2: (Without Xp3) | E13: Tank #2 | F13: Odometer- | H13: Gal. Filled | J13: =IF(G13="","",SUM((G13-G11)/(I13)))
A14: Odometer - | C14: Gal. Filled | E14: =IF(B14="","",SUM((B14-B12)/(D14))) | F14: Tank #18: (Treated With Xp3) | J14: Tank #18
A15: Tank #3: (Without Xp3) | E15: Tank #3 | F15: Odometer- | H15: Gal. Filled | J15: =IF(G15="","",SUM((G15-G13)/(I15)))
A16: Odometer - | C16: Gal. Filled | E16: =IF(B16="","",SUM((B16-B14)/(D16))) | F16: Tank #19: (Treated With Xp3) | J16: Tank #19
A17: Tank #4: (Without Xp3) | E17: Tank #4 | F17: Odometer- | H17: Gal. Filled | J17: =IF(G17="","",SUM((G17-G15)/(I17)))
A18: Odomter - | C18: Gal. Filled | E18: =IF(B18="","",SUM((B18-B16)/(D18))) | F18: Tank #20: (Treated With Xp3) | J18: Tank #20
A19: Tank #5: (Without Xp3) | E19: Tank #5 | F19: Odometer- | H19: Gal. Filled | J19: =IF(G19="","",SUM((G19-G17)/(I19)))
A20: Odometer - | C20: Gal. Filled | E20: =IF(B20="","",SUM((B20-B18)/(D20))) | F20: Tank #21: (Treated With Xp3) | J20: Tank #21
A21: Tank #6: (Without Xp3) | E21: Tank #6 | F21: Odometer- | H21: Gal. Filled | J21: =IF(G21="","",SUM((G21-G19)/(I21)))
A22: Odometer - | C22: Gal. Filled | E22: =IF(B22="","",SUM((B22-B20)/(D22))) | F22: Tank #22: (Treated With Xp3) | J22: Tank #22
A23: Tank #7: (Without Xp3) | E23: Tank #7 | F23: Odometer- | H23: Gal. Filled | J23: =IF(G23="","",SUM((G23-G21)/(I23)))
A24: Odometer - | C24: Gal. Filled | E24: =IF(B24="","",SUM((B24-B22)/(D24))) | F24: Tank #23: (Treated With Xp3) | J24: Tank #23
A25: Tank #8: (Without Xp3) | E25: Tank #8 | F25: Odometer- | H25: Gal. Filled | J25: =IF(G25="","",SUM((G25-G23)/(I25)))
A26: Odometer - | C26: Gal. Filled | E26: =IF(B26="","",SUM((B26-B24)/(D26))) | F26: Tank #24: (Treated With Xp3) | J26: Tank #24
A27: Tank #9: (Without Xp3) | E27: Tank #9 | F27: Odometer- | H27: Gal. Filled | J27: =IF(G27="","",SUM((G27-G25)/(I27)))
A28: Odometer - | C28: Gal. Filled | E28: =IF(B28="","",SUM((B28-B26)/(D28))) | F28: Tank #25: (Treated With Xp3) | J28: Tank #25
A29: Tank #10): (Final Tank Without Xp3) | E29: Tank #10 | F29: Odometer- | H29: Gal. Filled | J29: =IF(G29="","",SUM((G29-G27)/(I29)))
A30: Odometer - | C30: Gal. Filled | E30: =IF(B30="","",SUM((B30-B28)/(D30))) | F30: Tank #26: (Treated With Xp3) | J30: Tank #26
A31: Tanks #11 - #15 Treated With Xp3 | E31: Started Using Xp3 Tank #11 | F31: Odometer- | H31: Gal. Filled | J31: =IF(G31="","",SUM((G31-G29)/(I31)))
A32: Tank #11: (Started Treating With Xp3) | E32: Tank #11 | F32: Tank #27: (Treated With Xp3) | J32: Tank #27
A33: Odometer - | C33: Gal. Filled | E33: =IF(B33="","",SUM((B33-B30)/(D33))) | F33: Odometer- | H33: Gal. Filled | J33: =IF(G33="","",SUM((G33-G31)/(I33)))
A34: Tank #12: (Treated With Xp3) | E34: Tank #12 | F34: Tank #28: (Treated With Xp3) | J34: Tank #28
A35: Odometer - | C35: Gal. Filled | E35: =IF(B35="","",SUM((B35-B33)/(D35))) | F35: Odometer- | H35: Gal. Filled | J35: =IF(G35="","",SUM((G35-G33)/(I35)))
A36: Tank #13: (Treated With Xp3) | E36: Tank #13 | F36: Tank #29: (Treated With Xp3) | J36: Tank #29
A37: Odometer - | C37: Gal. Filled | E37: =IF(B37="","",SUM((B37-B35)/(D37))) | F37: Odometer- | H37: Gal. Filled | J37: =IF(G37="","",SUM((G37-G35)/(I37)))
A38: Tank #14: (Treated With Xp3) | E38: Tank #14 | F38: Tank #30: (Treated With Xp3) | J38: Tank #30
A39: Odometer - | C39: Gal. Filled | E39: =IF(B39="","",SUM((B39-B37)/(D39))) | F39: Odometer- | H39: Gal. Filled | J39: =IF(G39="","",SUM((G39-G37)/(I39)))
A40: Tank #15): (Treated With Xp3) | E40: Tank #15 | F40: Tank #31: (Treated With Xp3) | J40: Tank #31
A41: Odometer - | C41: Gal. Filled | E41: =IF(B41="","",SUM((B41-B39)/(D41))) | F41: Odometer- | H41: Gal. Filled | J41: =IF(G41="","",SUM((G41-G39)/(I41)))
F42: Average MPG Tanks #12 -#31 Treated With Xp3: | J42: =IF(ISERROR(AVERAGE(E35:E41,J11:J41)),"n/a",AVERAGE(E35:E41,J11:J41)) -> n/a
B47: Place Your Company Logo Or Fuel Direct Logo Here | F47: Summary Of MPG Results: | J47: -------------------
F48: Average MPG Tanks #1- #11 Without Xp3: | J48: =IF(ISERROR(AVERAGE(E12:E33)),"n/a",(AVERAGE(E12:E33))) -> n/a
F49: Average MPG Tanks #12- #31 Treated With Xp3: | J49: =IF(ISERROR(AVERAGE(E35:E41,J11:J41)),"n/a",AVERAGE(E35:E41,J11:J41)) -> n/a
G51: =IF(ISBLANK(G41),J41,"") | J51: TFL-2A

Sheet TFL-2B
F1: ='TFL-2A'!F1 -> XYZ Company Xp3 Trial Vehicle MPG Summary
F2: ='TFL-2A'!F2 -> Driver Name/ID:
F3: ='TFL-2A'!F3 -> Vehicle ID/Number:
F4: ='TFL-2A'!F4 -> Consultant Name:
F5: ='TFL-2A'!F5 -> Contact Number:
F6: ='TFL-1A'!F6 -> Date:
A8: Tanks #32-#47 Were Treated With Xp3 | E8: MPG With Xp3 | F8: Tanks #48-#63 Were Treated With Xp3 | J8: MPG With Xp3
A9: Tank #32: (Treated With Xp3) | E9: Tank #32 | F9: Tank #48: (Treated With Xp3) | J9: Tank #48
A10: Odometer- | C10: Gal. Filled | E10: =IF(B10="","",ROUND(SUM((B10-'TFL-2A'!G41)/(D10)),2)) | F10: Odometer- | H10: Gal. Filled | J10: =IF(G10="","",ROUND(SUM((G10-B40)/(I10)),2))
A11: Tank #33: (Treated With Xp3) | E11: Tank #33 | F11: Tank #49: (Treated With Xp3) | J11: Tank #49
A12: Odometer - | C12: Gal. Filled | E12: =IF(B12="","",ROUND(SUM((B12-B10)/(D12)),2)) | F12: Odometer- | H12: Gal. Filled | J12: =IF(G12="","",ROUND(SUM((G12-G10)/(I12)),2))
A13: Tank #34: (Treated With Xp3) | E13: Tank #34 | F13: Tank #50: (Treated With Xp3) | J13: Tank #50
A14: Odometer - | C14: Gal. Filled | E14: =IF(B14="","",ROUND(SUM((B14-B12)/(D14)),2)) | F14: Odometer- | H14: Gal. Filled | J14: =IF(G14="","",ROUND(SUM((G14-G12)/(I14)),2))
A15: Tank #35: (Treated With Xp3) | E15: Tank #35 | F15: Tank #51: (Treated With Xp3) | J15: Tank #51
A16: Odometer - | C16: Gal. Filled | E16: =IF(B16="","",ROUND(SUM((B16-B14)/(D16)),2)) | F16: Odometer- | H16: Gal. Filled | J16: =IF(G16="","",ROUND(SUM((G16-G14)/(I16)),2))
A17: Tank #36: (Treated With Xp3) | E17: Tank #36 | F17: Tank #52: (Treated With Xp3) | J17: Tank #52
A18: Odomter - | C18: Gal. Filled | E18: =IF(B18="","",ROUND(SUM((B18-B16)/(D18)),2)) | F18: Odometer- | H18: Gal. Filled | J18: =IF(G18="","",ROUND(SUM((G18-G16)/(I18)),2))
A19: Tank #37: (Treated With Xp3) | E19: Tank #37 | F19: Tank #53: (Treated With Xp3) | J19: Tank #53
A20: Odometer - | C20: Gal. Filled | E20: =IF(B20="","",ROUND(SUM((B20-B18)/(D20)),2)) | F20: Odometer- | H20: Gal. Filled | J20: =IF(G20="","",ROUND(SUM((G20-G18)/(I20)),2))
A21: Tank #38: (Treated With Xp3) | E21: Tank #38 | F21: Tank #54: (Treated With Xp3) | J21: Tank #54
A22: Odometer - | C22: Gal. Filled | E22: =IF(B22="","",ROUND(SUM((B22-B20)/(D22)),2)) | F22: Odometer- | H22: Gal. Filled | J22: =IF(G22="","",ROUND(SUM((G22-G20)/(I22)),2))
A23: Tank #39: (Treated With Xp3) | E23: Tank #39 | F23: Tank #55: (Treated With Xp3) | J23: Tank #55
A24: Odometer - | C24: Gal. Filled | E24: =IF(B24="","",ROUND(SUM((B24-B22)/(D24)),2)) | F24: Odometer- | H24: Gal. Filled | J24: =IF(G24="","",ROUND(SUM((G24-G22)/(I24)),2))
A25: Tank #40: (Treated With Xp3) | E25: Tank #40 | F25: Tank #56: (Treated With Xp3) | J25: Tank #56
A26: Odometer - | C26: Gal. Filled | E26: =IF(B26="","",ROUND(SUM((B26-B24)/(D26)),2)) | F26: Odometer- | H26: Gal. Filled | J26: =IF(G26="","",ROUND(SUM((G26-G24)/(I26)),2))
A27: Tank #41: (Treated With Xp3) | E27: Tank #41 | F27: Tank #57: (Treated With Xp3) | J27: Tank #57
A28: Odometer - | C28: Gal. Filled | E28: =IF(B28="","",ROUND(SUM((B28-B26)/(D28)),2)) | F28: Odometer- | H28: Gal. Filled | J28: =IF(G28="","",ROUND(SUM((G28-G26)/(I28)),2))
A29: Tank #42: (Treated With Xp3) | E29: Tank #42 | F29: Tank #58: (Treated With Xp3) | J29: Tank #58
A30: Odometer - | C30: Gal. Filled | E30: =IF(B30="","",ROUND(SUM((B30-B28)/(D30)),2)) | F30: Odometer- | H30: Gal. Filled | J30: =IF(G30="","",ROUND(SUM((G30-G28)/(I30)),2))
A31: Tank #43: (Treated With Xp3) | E31: Tank #43 | F31: Tank #59: (Treated With Xp3) | J31: Tank #59
A32: Odometer - | C32: Gal. Filled | E32: =IF(B32="","",ROUND(SUM((B32-B30)/(D32)),2)) | F32: Odometer- | H32: Gal. Filled | J32: =IF(G32="","",ROUND(SUM((G32-G30)/(I32)),2))
A33: Tank #44: (Treated With Xp3) | E33: Tank #44 | F33: Tank #60: (Treated With Xp3) | J33: Tank #60
A34: Odometer - | C34: Gal. Filled | E34: =IF(B34="","",ROUND(SUM((B34-B32)/(D34)),2)) | F34: Odometer- | H34: Gal. Filled | J34: =IF(G34="","",ROUND(SUM((G34-G32)/(I34)),2))
A35: Tank #45: (Treated With Xp3) | E35: Tank #45 | F35: Tank #61: (Treated With Xp3) | J35: Tank #61
A36: Odometer - | C36: Gal. Filled | E36: =IF(B36="","",ROUND(SUM((B36-B34)/(D36)),2)) | F36: Odometer- | H36: Gal. Filled | J36: =IF(G36="","",ROUND(SUM((G36-G34)/(I36)),2))
A37: Tank #46: (Treated With Xp3) | E37: Tank #46 | F37: Tank #62: (Treated With Xp3) | J37: Tank #62
A38: Odometer - | C38: Gal. Filled | E38: =IF(B38="","",ROUND(SUM((B38-B36)/(D38)),2)) | F38: Odometer- | H38: Gal. Filled | J38: =IF(G38="","",ROUND(SUM((G38-G36)/(I38)),2))
A39: Tank #47: (Treated With Xp3) | E39: Tank #47 | F39: Tank #63: (Treated With Xp3) | J39: Tank #63
A40: Odometer - | C40: Gal. Filled | E40: =IF(B40="","",ROUND(SUM((B40-B38)/(D40)),2)) | F40: Odometer- | H40: Gal. Filled | J40: =IF(G40="","",ROUND(SUM((G40-G38)/(I40)),2))
F41: Average MPG Tank #32 Thru Tank #63 Treated With Xp3: | J41: =IF(ISERROR(AVERAGE(E10:E40,J10:J40)),"n/a",AVERAGE(E10:E40,J10:J40)) -> n/a
F42: Summary of MPG Results: | J42: -------------------
F43: Average MPG Tanks #1- #11 Without Xp3: | J43: =IF(ISERROR(ROUND(('TFL-2A'!J48),2)),"n/a",ROUND(('TFL-2A'!J48),2)) -> n/a
B44: Place Your Company Logo Or Fuel Direct Logo Here | F44: Average MPG Tanks #12 Thru #31 Treated With Xp3: | J44: =IF(ISERROR(ROUND(('TFL-2A'!J49),2)),"n/a",ROUND(('TFL-2A'!J49),2)) -> n/a
F45: Average MPG Tanks #32 Thru #63 Treated With Xp3: | J45: =IF(ISERROR(ROUND(J41,2)),"n/a",ROUND(J41,2)) -> n/a
F46: Total Average MPG Tanks #12 Thru #63 Treated With Xp3: | J46: =IF(ISERROR(ROUND(SUM((J45+J44)/(2)),2)),"n/a",ROUND(SUM((J45+J44)/(2)),2)) -> n/a
J48: TFL-2B
G49: =IF(ISBLANK(G40),J40,"")

Sheet TFL-2C
F1: ='TFL-2B'!F1 -> XYZ Company Xp3 Trial Vehicle MPG Summary
F2: ='TFL-2B'!F2 -> Driver Name/ID:
F3: ='TFL-2B'!F3 -> Vehicle ID/Number:
F4: ='TFL-2B'!F4 -> Consultant Name:
F5: ='TFL-2B'!F5 -> Contact Number:
F6: ='TFL-2B'!F6 -> Date:
A8: Tanks #64-#79 Were Treated With Xp3 | E8: MPG With Xp3 | F8: Tanks #80-#95 Were Treated With Xp3 | J8: MPG With Xp3
A9: Tank #64 (Treated With Xp3) | E9: Tank #64 | F9: Tank #80: (Treated With Xp3) | J9: Tank #80
A10: Odometer- | C10: Fuel Gal. | E10: =IF(B10="","",SUM((B10-'TFL-2B'!G40)/(D10))) | F10: Odometer- | H10: Fuel Gal.- | J10: =IF(G10="","",ROUND(SUM((G10-B40)/(I10)),2))
A11: Tank #65 (Treated With Xp3) | E11: Tank #65 | F11: Tank #81: (Treated With Xp3) | J11: Tank #81
A12: Odometer - | C12: Fuel Gal. - | E12: =IF(B12="","",SUM((B12-B10)/(D12))) | F12: Odometer- | H12: Fuel Gal.- | J12: =IF(G12="","",ROUND(SUM((G12-G10)/(I12)),2))
A13: Tank #66 (Treated With Xp3) | E13: Tank #66 | F13: Tank #82: (Treated With Xp3) | J13: Tank #82
A14: Odometer - | C14: Fuel Gal. - | E14: =IF(B14="","",SUM((B14-B12)/(D14))) | F14: Odometer- | H14: Fuel Gal.- | J14: =IF(G14="","",ROUND(SUM((G14-G12)/(I14)),2))
A15: Tank #67 (Treated With Xp3) | E15: Tank #67 | F15: Tank #83: (Treated With Xp3) | J15: Tank #83
A16: Odometer - | C16: Fuel Gal. - | E16: =IF(B16="","",SUM((B16-B14)/(D16))) | F16: Odometer- | H16: Fuel Gal.- | J16: =IF(G16="","",ROUND(SUM((G16-G14)/(I16)),2))
A17: Tank #68 (Treated With Xp3) | E17: Tank #68 | F17: Tank #84: (Treated With Xp3) | J17: Tank #84
A18: Odomter - | C18: Fuel Gal. - | E18: =IF(B18="","",SUM((B18-B16)/(D18))) | F18: Odometer- | H18: Fuel Gal.- | J18: =IF(G18="","",ROUND(SUM((G18-G16)/(I18)),2))
A19: Tank #69 (Treated With Xp3) | E19: Tank #69 | F19: Tank #85: (Treated With Xp3) | J19: Tank #85
A20: Odometer - | C20: Fuel Gal.- | E20: =IF(B20="","",SUM((B20-B18)/(D20))) | F20: Odometer- | H20: Fuel Gal.- | J20: =IF(G20="","",ROUND(SUM((G20-G18)/(I20)),2))
A21: Tank #70 (Treated With Xp3) | E21: Tank #70 | F21: Tank #86: (Treated With Xp3) | J21: Tank #86
A22: Odometer - | C22: Fuel Gal. - | E22: =IF(B22="","",SUM((B22-B20)/(D22))) | F22: Odometer- | H22: Fuel Gal.- | J22: =IF(G22="","",ROUND(SUM((G22-G20)/(I22)),2))
A23: Tank #71 (Treated With Xp3) | E23: Tank #71 | F23: Tank #87: (Treated With Xp3) | J23: Tank #87
A24: Odometer - | C24: Fuel Gal. - | E24: =IF(B24="","",SUM((B24-B22)/(D24))) | F24: Odometer- | H24: Fuel Gal.- | J24: =IF(G24="","",ROUND(SUM((G24-G22)/(I24)),2))
A25: Tank #72 (Treated With Xp3) | E25: Tank #72 | F25: Tank #88: (Treated With Xp3) | J25: Tank #88
A26: Odometer - | C26: Fuel Gal. - | E26: =IF(B26="","",SUM((B26-B24)/(D26))) | F26: Odometer- | H26: Fuel Gal.- | J26: =IF(G26="","",ROUND(SUM((G26-G24)/(I26)),2))
A27: Tank #73 (Treated With Xp3) | E27: Tank #73 | F27: Tank #89: (Treated With Xp3) | J27: Tank #89
A28: Odometer - | C28: Fuel Gal. - | E28: =IF(B28="","",SUM((B28-B26)/(D28))) | F28: Odometer- | H28: Fuel Gal.- | J28: =IF(G28="","",ROUND(SUM((G28-G26)/(I28)),2))
A29: Tank #74 (Treated With Xp3) | E29: Tank #74 | F29: Tank #90: (Treated With Xp3) | J29: Tank #90
A30: Odometer - | C30: Fuel Gal.- | E30: =IF(B30="","",SUM((B30-B28)/(D30))) | F30: Odometer- | H30: Fuel Gal.- | J30: =IF(G30="","",ROUND(SUM((G30-G28)/(I30)),2))
A31: Tank #75 (Treated With Xp3) | E31: Tank #75 | F31: Tank #91: (Treated With Xp3) | J31: Tank #91
A32: Odometer - | C32: Fuel Gal. - | E32: =IF(B32="","",SUM((B32-B30)/(D32))) | F32: Odometer- | H32: Fuel Gal.- | J32: =IF(G32="","",ROUND(SUM((G32-G30)/(I32)),2))
A33: Tank #76 (Treated With Xp3) | E33: Tank #76 | F33: Tank #92: (Treated With Xp3) | J33: Tank #92
A34: Odometer - | C34: Fuel Gal. - | E34: =IF(B34="","",SUM((B34-B32)/(D34))) | F34: Odometer- | H34: Fuel Gal.- | J34: =IF(G34="","",ROUND(SUM((G34-G32)/(I34)),2))
A35: Tank #77 (Treated With Xp3) | E35: Tank #77 | F35: Tank #93: (Treated With Xp3) | J35: Tank #93
A36: Odometer - | C36: Fuel Gal. - | E36: =IF(B36="","",SUM((B36-B34)/(D36))) | F36: Odometer- | H36: Fuel Gal.- | J36: =IF(G36="","",ROUND(SUM((G36-G34)/(I36)),2))
A37: Tank #78 (Treated With Xp3) | E37: Tank #78 | F37: Tank #94: (Treated With Xp3) | J37: Tank #94
A38: Odometer - | C38: Fuel Gal. - | E38: =IF(B38="","",SUM((B38-B36)/(D38))) | F38: Odometer- | H38: Fuel Gal.- | J38: =IF(G38="","",ROUND(SUM((G38-G36)/(I38)),2))
A39: Tank #79 (Treated With Xp3) | E39: Tank #79 | F39: Tank #95: (Final Tank Treated With Xp3) | J39: Tank #95
A40: Odometer - | C40: Fuel Gal.- | E40: =IF(B40="","",SUM((B40-B38)/(D40))) | F40: Odometer- | H40: Fuel Gal.- | J40: =IF(G40="","",ROUND(SUM((G40-G38)/(I40)),2))
F41: Average MPG Tank #64 Thru Tank #95 Treated With Xp3: | J41: =IF(ISERROR(AVERAGE(E10:E40,J10:J40)),"n/a",AVERAGE(E10:E40,J10:J40)) -> n/a
F42: Summary of MPG Results: | J42: -------------------
F43: Average MPG Tanks #1- #11 Without Xp3: | J43: =IF(ISERROR(ROUND(('TFL-2B'!J43),2)),"n/a",ROUND(('TFL-2B'!J43),2)) -> n/a | K43: =SUM(K40:K42) -> 0
B44: Place Your Company Logo Or Fuel Direct Logo Here | F44: Average MPG Tanks #12 Thru #31 Treated With Xp3: | J44: =IF(ISERROR(ROUND(('TFL-2A'!J49),2)),"n/a",ROUND(('TFL-2A'!J49),2)) -> n/a
F45: Average MPG Tanks #32 Thru #63 Treated With Xp3: | J45: =IF(ISERROR(ROUND('TFL-2B'!J41,2)),"n/a",ROUND('TFL-2B'!J41,2)) -> n/a
F46: Average MPG Tanks #64 Thru #95 Treated With Xp3: | J46: =IF(ISERROR(ROUND(J41,2)),"n/a",ROUND(J41,2)) -> n/a
F47: Average MPG Tanks #12-#95 Treated With Xp3: | J47: =IF(ISERROR(SUM((J44+J45+J46)/(3))),"n/a",SUM((J44+J45+J46)/(3))) -> n/a
F48: MPG Increase Comparing Tanks #1-#11 To Tanks #12-#95: | J48: =IF(ISERROR((SUM(J47-J43))),"n/a",SUM(J47-J43)) -> n/a | K48: =ROUND(J48,2) -> #VALUE!
F49: Total Percentage Of Overall Increase In MPG With Xp3: | J49: =IF(ISERROR(ROUND((J48/J43),2)),"n/a",ROUND((J48/J43),2)) -> n/a
J51: TFL-2C
G52: =IF(ISBLANK(G40),J40,"")

Sheet TFL-3A
F1: ='TFL-2C'!F1 -> XYZ Company Xp3 Trial Vehicle MPG Summary
F2: Driver Name/ID:
F3: Vehicle ID/Number:
F4: ='TFL-2C'!F4 -> Consultant Name:
F5: ='TFL-2C'!F5 -> Contact Number:
F6: ='TFL-2C'!F6 -> Date:
A8: Tanks 1-10 Without Xp3 | E8: MPG W/Out Xp3 | F8: Tanks #16-#31 With Xp3 | J8: MPG With Xp3
A9: Fill Tank Completely & Record Odometer | E9: Starting Tank | F9: Tanks #16 - #31 Were Treated With Xp3 | J9: -------------------
A10: Odometer- | C10: Gal. Filled | D10: X | E10: ----------------- | F10: Tank #16: (Treated With Xp3) | J10: Tank #16
A11: Tank #1: (Without Xp3) | E11: Tank #1 | F11: Odometer- | H11: Gal. Filled | J11: =IF(G11="","",SUM((G11-B41)/(I11)))
A12: Odometer - | C12: Gal. Filled | E12: =IF(B12="","",SUM((B12-B10)/(D12))) | F12: Tank #17: (Treated With Xp3) | J12: Tank #17
A13: Tank #2: (Without Xp3) | E13: Tank #2 | F13: Odometer- | H13: Gal. Filled | J13: =IF(G13="","",SUM((G13-G11)/(I13)))
A14: Odometer - | C14: Gal. Filled | E14: =IF(B14="","",SUM((B14-B12)/(D14))) | F14: Tank #18: (Treated With Xp3) | J14: Tank #18
A15: Tank #3: (Without Xp3) | E15: Tank #3 | F15: Odometer- | H15: Gal. Filled | J15: =IF(G15="","",SUM((G15-G13)/(I15)))
A16: Odometer - | C16: Gal. Filled | E16: =IF(B16="","",SUM((B16-B14)/(D16))) | F16: Tank #19: (Treated With Xp3) | J16: Tank #19
A17: Tank #4: (Without Xp3) | E17: Tank #4 | F17: Odometer- | H17: Gal. Filled | J17: =IF(G17="","",SUM((G17-G15)/(I17)))
A18: Odomter - | C18: Gal. Filled | E18: =IF(B18="","",SUM((B18-B16)/(D18))) | F18: Tank #20: (Treated With Xp3) | J18: Tank #20
A19: Tank #5: (Without Xp3) | E19: Tank #5 | F19: Odometer- | H19: Gal. Filled | J19: =IF(G19="","",SUM((G19-G17)/(I19)))
A20: Odometer - | C20: Gal. Filled | E20: =IF(B20="","",SUM((B20-B18)/(D20))) | F20: Tank #21: (Treated With Xp3) | J20: Tank #21
A21: Tank #6: (Without Xp3) | E21: Tank #6 | F21: Odometer- | H21: Gal. Filled | J21: =IF(G21="","",SUM((G21-G19)/(I21)))
A22: Odometer - | C22: Gal. Filled | E22: =IF(B22="","",SUM((B22-B20)/(D22))) | F22: Tank #22: (Treated With Xp3) | J22: Tank #22
A23: Tank #7: (Without Xp3) | E23: Tank #7 | F23: Odometer- | H23: Gal. Filled | J23: =IF(G23="","",SUM((G23-G21)/(I23)))
A24: Odometer - | C24: Gal. Filled | E24: =IF(B24="","",SUM((B24-B22)/(D24))) | F24: Tank #23: (Treated With Xp3) | J24: Tank #23
A25: Tank #8: (Without Xp3) | E25: Tank #8 | F25: Odometer- | H25: Gal. Filled | J25: =IF(G25="","",SUM((G25-G23)/(I25)))
A26: Odometer - | C26: Gal. Filled | E26: =IF(B26="","",SUM((B26-B24)/(D26))) | F26: Tank #24: (Treated With Xp3) | J26: Tank #24
A27: Tank #9: (Without Xp3) | E27: Tank #9 | F27: Odometer- | H27: Gal. Filled | J27: =IF(G27="","",SUM((G27-G25)/(I27)))
A28: Odometer - | C28: Gal. Filled | E28: =IF(B28="","",SUM((B28-B26)/(D28))) | F28: Tank #25: (Treated With Xp3) | J28: Tank #25
A29: Tank #10): (Final Tank Without Xp3) | E29: Tank #10 | F29: Odometer- | H29: Gal. Filled | J29: =IF(G29="","",SUM((G29-G27)/(I29)))
A30: Odometer - | C30: Gal. Filled | E30: =IF(B30="","",SUM((B30-B28)/(D30))) | F30: Tank #26: (Treated With Xp3) | J30: Tank #26
A31: Tanks #11 - #15 Treated With Xp3 | E31: Started Using Xp3 Tank #11 | F31: Odometer- | H31: Gal. Filled | J31: =IF(G31="","",SUM((G31-G29)/(I31)))
A32: Tank #11: (Started Treating With Xp3) | E32: Tank #11 | F32: Tank #27: (Treated With Xp3) | J32: Tank #27
A33: Odometer - | C33: Gal. Filled | E33: =IF(B33="","",SUM((B33-B30)/(D33))) | F33: Odometer- | H33: Gal. Filled | J33: =IF(G33="","",SUM((G33-G31)/(I33)))
A34: Tank #12: (Treated With Xp3) | E34: Tank #12 | F34: Tank #28: (Treated With Xp3) | J34: Tank #28
A35: Odometer - | C35: Gal. Filled | E35: =IF(B35="","",SUM((B35-B33)/(D35))) | F35: Odometer- | H35: Gal. Filled | J35: =IF(G35="","",SUM((G35-G33)/(I35)))
A36: Tank #13: (Treated With Xp3) | E36: Tank #13 | F36: Tank #29: (Treated With Xp3) | J36: Tank #29
A37: Odometer - | C37: Gal. Filled | E37: =IF(B37="","",SUM((B37-B35)/(D37))) | F37: Odometer- | H37: Gal. Filled | J37: =IF(G37="","",SUM((G37-G35)/(I37)))
A38: Tank #14: (Treated With Xp3) | E38: Tank #14 | F38: Tank #30: (Treated With Xp3) | J38: Tank #30
A39: Odometer - | C39: Gal. Filled | E39: =IF(B39="","",SUM((B39-B37)/(D39))) | F39: Odometer- | H39: Gal. Filled | J39: =IF(G39="","",SUM((G39-G37)/(I39)))
A40: Tank #15): (Treated With Xp3) | E40: Tank #15 | F40: Tank #31: (Treated With Xp3) | J40: Tank #31
A41: Odometer - | C41: Gal. Filled | E41: =IF(B41="","",SUM((B41-B39)/(D41))) | F41: Odometer- | H41: Gal. Filled | J41: =IF(G41="","",SUM((G41-G39)/(I41)))
F42: Average MPG Tanks #12 -#31 Treated With Xp3: | J42: =IF(ISERROR(AVERAGE(E35:E41,J11:J41)),"n/a",AVERAGE(E35:E41,J11:J41)) -> n/a
B47: Place Your Company Logo Or Fuel Direct Logo Here | F47: Summary Of MPG Results: | J47: -------------------
F48: Average MPG Tanks #1- #11 Without Xp3: | J48: =IF(ISERROR(AVERAGE(E12:E33)),"n/a",(AVERAGE(E12:E33))) -> n/a
F49: Average MPG Tanks #12- #31 Treated With Xp3: | J49: =IF(ISERROR(AVERAGE(E35:E41,J11:J41)),"n/a",AVERAGE(E35:E41,J11:J41)) -> n/a
G51: =IF(ISBLANK(G41),J41,"") | J51: TFL-3A

Sheet TFL-3B
F1: ='TFL-1A'!F1 -> XYZ Company Xp3 Trial Vehicle MPG Summary
F2: ='TFL-3A'!F2 -> Driver Name/ID:
F3: ='TFL-3A'!F3 -> Vehicle ID/Number:
F4: ='TFL-1A'!F4 -> Consultant Name:
F5: ='TFL-1A'!F5 -> Contact Number:
F6: ='TFL-1A'!F6 -> Date:
A8: Tanks #32-#47 Were Treated With Xp3 | E8: MPG With Xp3 | F8: Tanks #48-#63 Were Treated With Xp3 | J8: MPG With Xp3
A9: Tank #32 (Treated With Xp3) | E9: Tank #32 | F9: Tank #48: (Treated With Xp3) | J9: Tank #48
A10: Odometer- | C10: Gal. Filled | E10: =IF(B10="","",ROUND(SUM((B10-'TFL-3A'!G41)/(D10)),2)) | F10: Odometer- | H10: Gal. Filled | J10: =IF(G10="","",ROUND(SUM((G10-B40)/(I10)),2))
A11: Tank #33 (Treated With Xp3) | E11: Tank #33 | F11: Tank #49: (Treated With Xp3) | J11: Tank #49
A12: Odometer - | C12: Gal. Filled | E12: =IF(B12="","",ROUND(SUM((B12-B10)/(D12)),2)) | F12: Odometer- | H12: Gal. Filled | J12: =IF(G12="","",ROUND(SUM((G12-G10)/(I12)),2))
A13: Tank #34 (Treated With Xp3) | E13: Tank #34 | F13: Tank #50: (Treated With Xp3) | J13: Tank #50
A14: Odometer - | C14: Gal. Filled | E14: =IF(B14="","",ROUND(SUM((B14-B12)/(D14)),2)) | F14: Odometer- | H14: Gal. Filled | J14: =IF(G14="","",ROUND(SUM((G14-G12)/(I14)),2))
A15: Tank #35 (Treated With Xp3) | E15: Tank #35 | F15: Tank #51: (Treated With Xp3) | J15: Tank #51
A16: Odometer - | C16: Gal. Filled | E16: =IF(B16="","",ROUND(SUM((B16-B14)/(D16)),2)) | F16: Odometer- | H16: Gal. Filled | J16: =IF(G16="","",ROUND(SUM((G16-G14)/(I16)),2))
A17: Tank #36 (Treated With Xp3) | E17: Tank #36 | F17: Tank #52: (Treated With Xp3) | J17: Tank #52
A18: Odomter - | C18: Gal. Filled | E18: =IF(B18="","",ROUND(SUM((B18-B16)/(D18)),2)) | F18: Odometer- | H18: Gal. Filled | J18: =IF(G18="","",ROUND(SUM((G18-G16)/(I18)),2))
A19: Tank #37 (Treated With Xp3) | E19: Tank #37 | F19: Tank #53: (Treated With Xp3) | J19: Tank #53
A20: Odometer - | C20: Gal. Filled | E20: =IF(B20="","",ROUND(SUM((B20-B18)/(D20)),2)) | F20: Odometer- | H20: Gal. Filled | J20: =IF(G20="","",ROUND(SUM((G20-G18)/(I20)),2))
A21: Tank #38 (Treated With Xp3) | E21: Tank #38 | F21: Tank #54: (Treated With Xp3) | J21: Tank #54
A22: Odometer - | C22: Gal. Filled | E22: =IF(B22="","",ROUND(SUM((B22-B20)/(D22)),2)) | F22: Odometer- | H22: Gal. Filled | J22: =IF(G22="","",ROUND(SUM((G22-G20)/(I22)),2))
A23: Tank #39 (Treated With Xp3) | E23: Tank #39 | F23: Tank #55: (Treated With Xp3) | J23: Tank #55
A24: Odometer - | C24: Gal. Filled | E24: =IF(B24="","",ROUND(SUM((B24-B22)/(D24)),2)) | F24: Odometer- | H24: Gal. Filled | J24: =IF(G24="","",ROUND(SUM((G24-G22)/(I24)),2))
A25: Tank #40 (Treated With Xp3) | E25: Tank #40 | F25: Tank #56: (Treated With Xp3) | J25: Tank #56
A26: Odometer - | C26: Gal. Filled | E26: =IF(B26="","",ROUND(SUM((B26-B24)/(D26)),2)) | F26: Odometer- | H26: Gal. Filled | J26: =IF(G26="","",ROUND(SUM((G26-G24)/(I26)),2))
A27: Tank #41 (Treated With Xp3) | E27: Tank #41 | F27: Tank #57: (Treated With Xp3) | J27: Tank #57
A28: Odometer - | C28: Gal. Filled | E28: =IF(B28="","",ROUND(SUM((B28-B26)/(D28)),2)) | F28: Odometer- | H28: Gal. Filled | J28: =IF(G28="","",ROUND(SUM((G28-G26)/(I28)),2))
A29: Tank #42 (Treated With Xp3) | E29: Tank #42 | F29: Tank #58: (Treated With Xp3) | J29: Tank #58
A30: Odometer - | C30: Gal. Filled | E30: =IF(B30="","",ROUND(SUM((B30-B28)/(D30)),2)) | F30: Odometer- | H30: Gal. Filled | J30: =IF(G30="","",ROUND(SUM((G30-G28)/(I30)),2))
A31: Tank #43 (Treated With Xp3) | E31: Tank #43 | F31: Tank #59: (Treated With Xp3) | J31: Tank #59
A32: Odometer - | C32: Gal. Filled | E32: =IF(B32="","",ROUND(SUM((B32-B30)/(D32)),2)) | F32: Odometer- | H32: Gal. Filled | J32: =IF(G32="","",ROUND(SUM((G32-G30)/(I32)),2))
A33: Tank #44 (Treated With Xp3) | E33: Tank #44 | F33: Tank #60: (Treated With Xp3) | J33: Tank #60
A34: Odometer - | C34: Gal. Filled | E34: =IF(B34="","",ROUND(SUM((B34-B32)/(D34)),2)) | F34: Odometer- | H34: Gal. Filled | J34: =IF(G34="","",ROUND(SUM((G34-G32)/(I34)),2))
A35: Tank #45 (Treated With Xp3) | E35: Tank #45 | F35: Tank #61: (Treated With Xp3) | J35: Tank #61
A36: Odometer - | C36: Gal. Filled | E36: =IF(B36="","",ROUND(SUM((B36-B34)/(D36)),2)) | F36: Odometer- | H36: Gal. Filled | J36: =IF(G36="","",ROUND(SUM((G36-G34)/(I36)),2))
A37: Tank #46 (Treated With Xp3) | E37: Tank #46 | F37: Tank #62: (Treated With Xp3) | J37: Tank #62
A38: Odometer - | C38: Gal. Filled | E38: =IF(B38="","",ROUND(SUM((B38-B36)/(D38)),2)) | F38: Odometer- | H38: Gal. Filled | J38: =IF(G38="","",ROUND(SUM((G38-G36)/(I38)),2))
A39: Tank #47 (Treated With Xp3) | E39: Tank #47 | F39: Tank #63: (Treated With Xp3) | J39: Tank #63
A40: Odometer - | C40: Gal. Filled | E40: =IF(B40="","",ROUND(SUM((B40-B38)/(D40)),2)) | F40: Odometer- | H40: Gal. Filled | J40: =IF(G40="","",ROUND(SUM((G40-G38)/(I40)),2))
F41: Average MPG Tank #32 Thru Tank #63 Treated With Xp3: | J41: =IF(ISERROR(AVERAGE(E10:E40,J10:J40)),"n/a",AVERAGE(E10:E40,J10:J40)) -> n/a
F42: Summary of MPG Results: | J42: -------------------
F43: Average MPG Tanks #1- #11 Without Xp3: | J43: =IF(ISERROR(ROUND(('TFL-3A'!J48),2)),"n/a",ROUND(('TFL-3A'!J48),2)) -> n/a
B44: Place Your Company Logo Or Fuel Direct Logo Here | F44: Average MPG Tanks #12 Thru #31 Treated With Xp3: | J44: =IF(ISERROR(ROUND(('TFL-3A'!J49),2)),"n/a",ROUND(('TFL-3A'!J49),2)) -> n/a
F45: Average MPG Tanks #32 Thru #63 Treated With Xp3: | J45: =IF(ISERROR(ROUND(J41,2)),"n/a",ROUND(J41,2)) -> n/a
F46: Total Average MPG Tanks #12 Thru #63 Treated With Xp3: | J46: =IF(ISERROR(ROUND(SUM((J45+J44)/(2)),2)),"n/a",ROUND(SUM((J45+J44)/(2)),2)) -> n/a
J48: TFL-3B
G49: =IF(ISBLANK(G40),J40,"")

Sheet TFL-3C
F1: ='TFL-3B'!F1 -> XYZ Company Xp3 Trial Vehicle MPG Summary
F2: ='TFL-3B'!F2 -> Driver Name/ID:
F3: ='TFL-3B'!F3 -> Vehicle ID/Number:
F4: ='TFL-3B'!F4 -> Consultant Name:
F5: ='TFL-3B'!F5 -> Contact Number:
F6: ='TFL-3B'!F6 -> Date:
A8: Tanks #64-#79 Were Treated With Xp3 | E8: MPG With Xp3 | F8: Tanks #80-#95 Were Treated With Xp3 | J8: MPG With Xp3
A9: Tank #64 (Treated With Xp3) | E9: Tank #64 | F9: Tank #80: (Treated With Xp3) | J9: Tank #80
A10: Odometer- | C10: Fuel Gal. | E10: =IF(B10="","",SUM((B10-'TFL-3B'!G40)/(D10))) | F10: Odometer- | H10: Fuel Gal.- | J10: =IF(G10="","",ROUND(SUM((G10-B40)/(I10)),2))
A11: Tank #65 (Treated With Xp3) | E11: Tank #65 | F11: Tank #81: (Treated With Xp3) | J11: Tank #81
A12: Odometer - | C12: Fuel Gal. - | E12: =IF(B12="","",SUM((B12-B10)/(D12))) | F12: Odometer- | H12: Fuel Gal.- | J12: =IF(G12="","",ROUND(SUM((G12-G10)/(I12)),2))
A13: Tank #66 (Treated With Xp3) | E13: Tank #66 | F13: Tank #82: (Treated With Xp3) | J13: Tank #82
A14: Odometer - | C14: Fuel Gal. - | E14: =IF(B14="","",SUM((B14-B12)/(D14))) | F14: Odometer- | H14: Fuel Gal.- | J14: =IF(G14="","",ROUND(SUM((G14-G12)/(I14)),2))
A15: Tank #67 (Treated With Xp3) | E15: Tank #67 | F15: Tank #83: (Treated With Xp3) | J15: Tank #83
A16: Odometer - | C16: Fuel Gal. - | E16: =IF(B16="","",SUM((B16-B14)/(D16))) | F16: Odometer- | H16: Fuel Gal.- | J16: =IF(G16="","",ROUND(SUM((G16-G14)/(I16)),2))
A17: Tank #68 (Treated With Xp3) | E17: Tank #68 | F17: Tank #84: (Treated With Xp3) | J17: Tank #84
A18: Odomter - | C18: Fuel Gal. - | E18: =IF(B18="","",SUM((B18-B16)/(D18))) | F18: Odometer- | H18: Fuel Gal.- | J18: =IF(G18="","",ROUND(SUM((G18-G16)/(I18)),2))
A19: Tank #69 (Treated With Xp3) | E19: Tank #69 | F19: Tank #85: (Treated With Xp3) | J19: Tank #85
A20: Odometer - | C20: Fuel Gal.- | E20: =IF(B20="","",SUM((B20-B18)/(D20))) | F20: Odometer- | H20: Fuel Gal.- | J20: =IF(G20="","",ROUND(SUM((G20-G18)/(I20)),2))
A21: Tank #70 (Treated With Xp3) | E21: Tank #70 | F21: Tank #86: (Treated With Xp3) | J21: Tank #86
A22: Odometer - | C22: Fuel Gal. - | E22: =IF(B22="","",SUM((B22-B20)/(D22))) | F22: Odometer- | H22: Fuel Gal.- | J22: =IF(G22="","",ROUND(SUM((G22-G20)/(I22)),2))
A23: Tank #71 (Treated With Xp3) | E23: Tank #71 | F23: Tank #87: (Treated With Xp3) | J23: Tank #87
A24: Odometer - | C24: Fuel Gal. - | E24: =IF(B24="","",SUM((B24-B22)/(D24))) | F24: Odometer- | H24: Fuel Gal.- | J24: =IF(G24="","",ROUND(SUM((G24-G22)/(I24)),2))
A25: Tank #72 (Treated With Xp3) | E25: Tank #72 | F25: Tank #88: (Treated With Xp3) | J25: Tank #88
A26: Odometer - | C26: Fuel Gal. - | E26: =IF(B26="","",SUM((B26-B24)/(D26))) | F26: Odometer- | H26: Fuel Gal.- | J26: =IF(G26="","",ROUND(SUM((G26-G24)/(I26)),2))
A27: Tank #73 (Treated With Xp3) | E27: Tank #73 | F27: Tank #89: (Treated With Xp3) | J27: Tank #89
A28: Odometer - | C28: Fuel Gal. - | E28: =IF(B28="","",SUM((B28-B26)/(D28))) | F28: Odometer- | H28: Fuel Gal.- | J28: =IF(G28="","",ROUND(SUM((G28-G26)/(I28)),2))
A29: Tank #74 (Treated With Xp3) | E29: Tank #74 | F29: Tank #90: (Treated With Xp3) | J29: Tank #90
A30: Odometer - | C30: Fuel Gal.- | E30: =IF(B30="","",SUM((B30-B28)/(D30))) | F30: Odometer- | H30: Fuel Gal.- | J30: =IF(G30="","",ROUND(SUM((G30-G28)/(I30)),2))
A31: Tank #75 (Treated With Xp3) | E31: Tank #75 | F31: Tank #91: (Treated With Xp3) | J31: Tank #91
A32: Odometer - | C32: Fuel Gal. - | E32: =IF(B32="","",SUM((B32-B30)/(D32))) | F32: Odometer- | H32: Fuel Gal.- | J32: =IF(G32="","",ROUND(SUM((G32-G30)/(I32)),2))
A33: Tank #76 (Treated With Xp3) | E33: Tank #76 | F33: Tank #92: (Treated With Xp3) | J33: Tank #92
A34: Odometer - | C34: Fuel Gal. - | E34: =IF(B34="","",SUM((B34-B32)/(D34))) | F34: Odometer- | H34: Fuel Gal.- | J34: =IF(G34="","",ROUND(SUM((G34-G32)/(I34)),2))
A35: Tank #77 (Treated With Xp3) | E35: Tank #77 | F35: Tank #93: (Treated With Xp3) | J35: Tank #93
A36: Odometer - | C36: Fuel Gal. - | E36: =IF(B36="","",SUM((B36-B34)/(D36))) | F36: Odometer- | H36: Fuel Gal.- | J36: =IF(G36="","",ROUND(SUM((G36-G34)/(I36)),2))
A37: Tank #78 (Treated With Xp3) | E37: Tank #78 | F37: Tank #94: (Treated With Xp3) | J37: Tank #94
A38: Odometer - | C38: Fuel Gal. - | E38: =IF(B38="","",SUM((B38-B36)/(D38))) | F38: Odometer- | H38: Fuel Gal.- | J38: =IF(G38="","",ROUND(SUM((G38-G36)/(I38)),2))
A39: Tank #79 (Treated With Xp3) | E39: Tank #79 | F39: Tank #95: (Final Tank Treated With Xp3) | J39: Tank #95
A40: Odometer - | C40: Fuel Gal.- | E40: =IF(B40="","",SUM((B40-B38)/(D40))) | F40: Odometer- | H40: Fuel Gal.- | J40: =IF(G40="","",ROUND(SUM((G40-G38)/(I40)),2))
F41: Average MPG Tank #64 Thru Tank #95 Treated With Xp3: | J41: =IF(ISERROR(AVERAGE(E10:E40,J10:J40)),"n/a",AVERAGE(E10:E40,J10:J40)) -> n/a
F42: Summary of MPG Results: | J42: -------------------
F43: Average MPG Tanks #1- #11 Without Xp3: | J43: =IF(ISERROR(ROUND(('TFL-3B'!J43),2)),"n/a",ROUND(('TFL-3B'!J43),2)) -> n/a | K43: =ROUND(J43,2) -> #VALUE!
B44: Place Your Company Logo Or Fuel Direct Logo Here | F44: Average MPG Tanks #12 Thru #31 Treated With Xp3: | J44: =IF(ISERROR(ROUND(('TFL-3A'!J49),2)),"n/a",ROUND(('TFL-3A'!J49),2)) -> n/a
F45: Average MPG Tanks #32 Thru #63 Treated With Xp3: | J45: =IF(ISERROR(ROUND('TFL-3B'!J41,2)),"n/a",ROUND('TFL-3B'!J41,2)) -> n/a
F46: Average MPG Tanks #64 Thru #95 Treated With Xp3: | J46: =IF(ISERROR(ROUND(J41,2)),"n/a",ROUND(J41,2)) -> n/a
F47: Average MPG Tanks #12-#95 Treated With Xp3: | J47: =IF(ISERROR(SUM((J44+J45+J46)/(3))),"n/a",SUM((J44+J45+J46)/(3))) -> n/a
F48: MPG Increase Comparing Tanks #1-#11 To Tanks #12-#95: | J48: =IF(ISERROR((SUM(J47-J43))),"n/a",SUM(J47-J43)) -> n/a | K48: =ROUND(J48,2) -> #VALUE!
F49: Total Percentage Of Overall Increase In MPG With Xp3: | J49: =IF(ISERROR(ROUND((K48/K43),2)),"n/a",ROUND((K48/K43),2)) -> n/a
J51: TFL-3C
G52: =IF(ISBLANK(G40),J40,"")

Sheet NTFL-1A
F1: ='TFL-1A'!F1 -> XYZ Company Xp3 Trial Vehicle MPG Summary
F2: Driver Name/ID:
F3: Vehicle ID/Number:
F4: ='TFL-1A'!F4 -> Consultant Name:
F5: ='TFL-1A'!F5 -> Contact Number:
F6: ='TFL-1A'!F6 -> Date:
A8: Tanks #1 Thru #15 Without Xp3 | E8: MPG | F8: Tanks #16 Thru #31 Without Xp3 | J8: MPG
A9: Fill Tank Completely & Record Odometer | E9: Starting Tank | F9: Tank #16: (Without Xp3) | J9: Tank #16
A10: Odometer- | C10: Gal. Filled | D10: X | E10: ----------------- | F10: Odometer- | H10: Gal. Filled | J10: =IF(G10="","",SUM((G10-B40)/(I10)))
A11: Tank #1: (Without Xp3) | E11: Tank #1 | F11: Tank #17: (Without Xp3) | J11: Tank #17
A12: Odometer - | C12: Gal. Filled | E12: =IF(B12="","",SUM((B12-B10)/(D12))) | F12: Odometer- | H12: Gal. Filled | J12: =IF(G12="","",SUM((G12-G10)/(I12)))
A13: Tank #2: (Without Xp3) | E13: Tank #2 | F13: Tank #18: (Without Xp3) | J13: Tank #18
A14: Odometer - | C14: Gal. Filled | E14: =IF(B14="","",SUM((B14-B12)/(D14))) | F14: Odometer- | H14: Gal. Filled | J14: =IF(G14="","",SUM((G14-G12)/(I14)))
A15: Tank #3: (Without Xp3) | E15: Tank #3 | F15: Tank #19: (Without Xp3) | J15: Tank #19
A16: Odometer - | C16: Gal. Filled | E16: =IF(B16="","",SUM((B16-B14)/(D16))) | F16: Odometer- | H16: Gal. Filled | J16: =IF(G16="","",SUM((G16-G14)/(I16)))
A17: Tank #4: (Without Xp3) | E17: Tank #4 | F17: Tank #20: (Without Xp3) | J17: Tank #20
A18: Odomter - | C18: Gal. Filled | E18: =IF(B18="","",SUM((B18-B16)/(D18))) | F18: Odometer- | H18: Gal. Filled | J18: =IF(G18="","",SUM((G18-G16)/(I18)))
A19: Tank #5: (Without Xp3) | E19: Tank #5 | F19: Tank #21: (Without Xp3) | J19: Tank #21
A20: Odometer - | C20: Gal. Filled | E20: =IF(B20="","",SUM((B20-B18)/(D20))) | F20: Odometer- | H20: Gal. Filled | J20: =IF(G20="","",SUM((G20-G18)/(I20)))
A21: Tank #6: (Without Xp3) | E21: Tank #6 | F21: Tank #22: (Without Xp3) | J21: Tank #22
A22: Odometer - | C22: Gal. Filled | E22: =IF(B22="","",SUM((B22-B20)/(D22))) | F22: Odometer- | H22: Gal. Filled | J22: =IF(G22="","",SUM((G22-G20)/(I22)))
A23: Tank #7: (Without Xp3) | E23: Tank #7 | F23: Tank #23: (Without Xp3) | J23: Tank #23
A24: Odometer - | C24: Gal. Filled | E24: =IF(B24="","",SUM((B24-B22)/(D24))) | F24: Odometer- | H24: Gal. Filled | J24: =IF(G24="","",SUM((G24-G22)/(I24)))
A25: Tank #8: (Without Xp3) | E25: Tank #8 | F25: Tank #24: (Without Xp3) | J25: Tank #24
A26: Odometer - | C26: Gal. Filled | E26: =IF(B26="","",SUM((B26-B24)/(D26))) | F26: Odometer- | H26: Gal. Filled | J26: =IF(G26="","",SUM((G26-G24)/(I26)))
A27: Tank #9: (Without Xp3) | E27: Tank #9 | F27: Tank #25: (Without Xp3) | J27: Tank #25
A28: Odometer - | C28: Gal. Filled | E28: =IF(B28="","",SUM((B28-B26)/(D28))) | F28: Odometer- | H28: Gal. Filled | J28: =IF(G28="","",SUM((G28-G26)/(I28)))
A29: Tank #10): (Without Xp3) | E29: Tank #10 | F29: Tank #26: (Without Xp3) | J29: Tank #26
A30: Odometer - | C30: Gal. Filled | E30: =IF(B30="","",SUM((B30-B28)/(D30))) | F30: Odometer- | H30: Gal. Filled | J30: =IF(G30="","",SUM((G30-G28)/(I30)))
A31: Tank #11: (Without Xp3) | E31: Tank #11 | F31: Tank #27: (Without Xp3) | J31: Tank #27
A32: Odometer - | C32: Gal. Filled | E32: =IF(B32="","",SUM((B32-B30)/(D32))) | F32: Odometer- | H32: Gal. Filled | J32: =IF(G32="","",SUM((G32-G30)/(I32)))
A33: Tank #12: (Without Xp3) | E33: Tank #12 | F33: Tank #28: (Without Xp3) | J33: Tank #28
A34: Odometer - | C34: Gal. Filled | E34: =IF(B34="","",SUM((B34-B32)/(D34))) | F34: Odometer- | H34: Gal. Filled | J34: =IF(G34="","",SUM((G34-G32)/(I34)))
A35: Tank #13: (Without Xp3) | E35: Tank #13 | F35: Tank #29: (Without Xp3) | J35: Tank #29
A36: Odometer - | C36: Gal. Filled | E36: =IF(B36="","",SUM((B36-B34)/(D36))) | F36: Odometer- | H36: Gal. Filled | J36: =IF(G36="","",SUM((G36-G34)/(I36)))
A37: Tank #14: (Without Xp3) | E37: Tank #14 | F37: Tank #30: (Without Xp3) | J37: Tank #30
A38: Odometer - | C38: Gal. Filled | E38: =IF(B38="","",SUM((B38-B36)/(D38))) | F38: Odometer- | H38: Gal. Filled | J38: =IF(G38="","",SUM((G38-G36)/(I38)))
A39: Tank #15): (Without Xp3) | E39: Tank #15 | F39: Tank #31: (Without Xp3) | J39: Tank #31
A40: Odometer - | C40: Gal. Filled | E40: =IF(B40="","",SUM((B40-B38)/(D40))) | F40: Odometer- | H40: Gal. Filled | J40: =IF(G40="","",SUM((G40-G38)/(I40)))
F41: Average MPG Tanks #12 -#31: | J41: =IF(ISERROR(AVERAGE(E34:E40,J10:J40)),"n/a",AVERAGE(E34:E40,J10:J40)) -> n/a
B46: Place Your Company Logo Or Fuel Direct Logo Here | F46: Summary Of MPG Results: | J46: -------------------
F47: Average MPG Tanks #1- #11: | J47: =IF(ISERROR(AVERAGE(E11:E32)),"n/a",(AVERAGE(E11:E32))) -> n/a
F48: Average MPG Tanks #12- #31: | J48: =IF(ISERROR(AVERAGE(E34:E40,J10:J40)),"n/a",AVERAGE(E34:E40,J10:J40)) -> n/a
G50: =IF(ISBLANK(G40),J40,"") | J50: NTFL-1A

Sheet NTFL-1B
F1: ='TFL-1A'!F1 -> XYZ Company Xp3 Trial Vehicle MPG Summary
F2: ='NTFL-1A'!$F$2 -> Driver Name/ID:
F3: ='NTFL-1A'!$F$3 -> Vehicle ID/Number:
F4: ='NTFL-1A'!F4 -> Consultant Name:
F5: ='NTFL-1A'!F5 -> Contact Number:
F6: ='TFL-1A'!F6 -> Date:
A8: Tanks #32 Thru #47 Without Xp3 | E8: MPG | F8: Tanks #48 Thru #63 Without Xp3 | J8: MPG
A9: Tank #32: (Without Xp3) | E9: Tank #32 | F9: Tank #48: (Without Xp3) | J9: Tank #48
A10: Odometer- | C10: Gal. Filled | E10: =IF(B10="","",ROUND(SUM((B10-'NTFL-1A'!G40)/(D10)),2)) | F10: Odometer- | H10: Gal. Filled | J10: =IF(G10="","",ROUND(SUM((G10-B40)/(I10)),2))
A11: Tank #33: (Without Xp3) | E11: Tank #33 | F11: Tank #49: (Without Xp3) | J11: Tank #49
A12: Odometer - | C12: Gal. Filled | E12: =IF(B12="","",ROUND(SUM((B12-B10)/(D12)),2)) | F12: Odometer- | H12: Gal. Filled | J12: =IF(G12="","",ROUND(SUM((G12-G10)/(I12)),2))
A13: Tank #34: (Without Xp3) | E13: Tank #34 | F13: Tank #50: (Without Xp3) | J13: Tank #50
A14: Odometer - | C14: Gal. Filled | E14: =IF(B14="","",ROUND(SUM((B14-B12)/(D14)),2)) | F14: Odometer- | H14: Gal. Filled | J14: =IF(G14="","",ROUND(SUM((G14-G12)/(I14)),2))
A15: Tank #35: (Without Xp3) | E15: Tank #35 | F15: Tank #51: (Without Xp3) | J15: Tank #51
A16: Odometer - | C16: Gal. Filled | E16: =IF(B16="","",ROUND(SUM((B16-B14)/(D16)),2)) | F16: Odometer- | H16: Gal. Filled | J16: =IF(G16="","",ROUND(SUM((G16-G14)/(I16)),2))
A17: Tank #36: (Without Xp3) | E17: Tank #36 | F17: Tank #52: (Without Xp3) | J17: Tank #52
A18: Odomter - | C18: Gal. Filled | E18: =IF(B18="","",ROUND(SUM((B18-B16)/(D18)),2)) | F18: Odometer- | H18: Gal. Filled | J18: =IF(G18="","",ROUND(SUM((G18-G16)/(I18)),2))
A19: Tank #37: (Without Xp3) | E19: Tank #37 | F19: Tank #53: (Without Xp3) | J19: Tank #53
A20: Odometer - | C20: Gal. Filled | E20: =IF(B20="","",ROUND(SUM((B20-B18)/(D20)),2)) | F20: Odometer- | H20: Gal. Filled | J20: =IF(G20="","",ROUND(SUM((G20-G18)/(I20)),2))
A21: Tank #38: (Without Xp3) | E21: Tank #38 | F21: Tank #54: (Without Xp3) | J21: Tank #54
A22: Odometer - | C22: Gal. Filled | E22: =IF(B22="","",ROUND(SUM((B22-B20)/(D22)),2)) | F22: Odometer- | H22: Gal. Filled | J22: =IF(G22="","",ROUND(SUM((G22-G20)/(I22)),2))
A23: Tank #39: (Without Xp3) | E23: Tank #39 | F23: Tank #55: (Without Xp3) | J23: Tank #55
A24: Odometer - | C24: Gal. Filled | E24: =IF(B24="","",ROUND(SUM((B24-B22)/(D24)),2)) | F24: Odometer- | H24: Gal. Filled | J24: =IF(G24="","",ROUND(SUM((G24-G22)/(I24)),2))
A25: Tank #40: (Without Xp3) | E25: Tank #40 | F25: Tank #56: (Without Xp3) | J25: Tank #56
A26: Odometer - | C26: Gal. Filled | E26: =IF(B26="","",ROUND(SUM((B26-B24)/(D26)),2)) | F26: Odometer- | H26: Gal. Filled | J26: =IF(G26="","",ROUND(SUM((G26-G24)/(I26)),2))
A27: Tank #41: (Without Xp3) | E27: Tank #41 | F27: Tank #57: (Without Xp3) | J27: Tank #57
A28: Odometer - | C28: Gal. Filled | E28: =IF(B28="","",ROUND(SUM((B28-B26)/(D28)),2)) | F28: Odometer- | H28: Gal. Filled | J28: =IF(G28="","",ROUND(SUM((G28-G26)/(I28)),2))
A29: Tank #42: (Without Xp3) | E29: Tank #42 | F29: Tank #58: (Without Xp3) | J29: Tank #58
A30: Odometer - | C30: Gal. Filled | E30: =IF(B30="","",ROUND(SUM((B30-B28)/(D30)),2)) | F30: Odometer- | H30: Gal. Filled | J30: =IF(G30="","",ROUND(SUM((G30-G28)/(I30)),2))
A31: Tank #43: (Without Xp3) | E31: Tank #43 | F31: Tank #59: (Without Xp3) | J31: Tank #59
A32: Odometer - | C32: Gal. Filled | E32: =IF(B32="","",ROUND(SUM((B32-B30)/(D32)),2)) | F32: Odometer- | H32: Gal. Filled | J32: =IF(G32="","",ROUND(SUM((G32-G30)/(I32)),2))
A33: Tank #44: (Without Xp3) | E33: Tank #44 | F33: Tank #60: (Without Xp3) | J33: Tank #60
A34: Odometer - | C34: Gal. Filled | E34: =IF(B34="","",ROUND(SUM((B34-B32)/(D34)),2)) | F34: Odometer- | H34: Gal. Filled | J34: =IF(G34="","",ROUND(SUM((G34-G32)/(I34)),2))
A35: Tank #45: (Without Xp3) | E35: Tank #45 | F35: Tank #61: (Without Xp3) | J35: Tank #61
A36: Odometer - | C36: Gal. Filled | E36: =IF(B36="","",ROUND(SUM((B36-B34)/(D36)),2)) | F36: Odometer- | H36: Gal. Filled | J36: =IF(G36="","",ROUND(SUM((G36-G34)/(I36)),2))
A37: Tank #46: (Without Xp3) | E37: Tank #46 | F37: Tank #62: (Without Xp3) | J37: Tank #62
A38: Odometer - | C38: Gal. Filled | E38: =IF(B38="","",ROUND(SUM((B38-B36)/(D38)),2)) | F38: Odometer- | H38: Gal. Filled | J38: =IF(G38="","",ROUND(SUM((G38-G36)/(I38)),2))
A39: Tank #47: (Without Xp3) | E39: Tank #47 | F39: Tank #63: (Without Xp3) | J39: Tank #63
A40: Odometer - | C40: Gal. Filled | E40: =IF(B40="","",ROUND(SUM((B40-B38)/(D40)),2)) | F40: Odometer- | H40: Gal. Filled | J40: =IF(G40="","",ROUND(SUM((G40-G38)/(I40)),2))
F41: Average MPG Tank #32 Thru Tank #63: | J41: =IF(ISERROR(AVERAGE(E10:E40,J10:J40)),"n/a",AVERAGE(E10:E40,J10:J40)) -> n/a
F42: Summary of MPG Results | J42: -------------------
F43: Average MPG Tanks #1 Thru #11: | J43: =IF(ISERROR(ROUND(('NTFL-1A'!J47),2)),"n/a",ROUND(('NTFL-1A'!J47),2)) -> n/a
B44: Place Your Company Logo Or Fuel Direct Logo Here | F44: Average MPG Tanks #12 Thru #31: | J44: =IF(ISERROR(ROUND(('NTFL-1A'!J48),2)),"n/a",ROUND(('NTFL-1A'!J48),2)) -> n/a
F45: Average MPG Tanks #32 Thru #63: | J45: =IF(ISERROR(ROUND(J41,2)),"n/a",ROUND(J41,2)) -> n/a
F46: Average MPG Tanks #12 Thru #63: | J46: =IF(ISERROR(ROUND(SUM((J45+J44)/(2)),2)),"n/a",ROUND(SUM((J45+J44)/(2)),2)) -> n/a
J48: NTFL-1B
G49: =IF(ISBLANK(G40),J40,"")

Sheet NTFL-1C
F1: ='NTFL-1A'!F1 -> XYZ Company Xp3 Trial Vehicle MPG Summary
F2: ='NTFL-1A'!F2 -> Driver Name/ID:
F3: ='NTFL-1A'!F3 -> Vehicle ID/Number:
F4: ='NTFL-1A'!F4 -> Consultant Name:
F5: ='NTFL-1A'!F5 -> Contact Number:
F6: ='NTFL-1A'!F6 -> Date:
A8: Tanks #64 Thru #79 Without Xp3 | E8: MPG | F8: Tanks #80 Thru #95 Without Xp3 | J8: MPG
A9: Tank #64: (Without Xp3) | E9: Tank #64 | F9: Tank #80: (Without Xp3) | J9: Tank #80
A10: Odometer- | C10: Fuel Gal. | E10: =IF(B10="","",SUM((B10-'NTFL-1B'!G40)/(D10))) | F10: Odometer- | H10: Fuel Gal.- | J10: =IF(G10="","",ROUND(SUM((G10-B40)/(I10)),2))
A11: Tank #65: (Without Xp3) | E11: Tank #65 | F11: Tank #81: (Without Xp3) | J11: Tank #81
A12: Odometer - | C12: Fuel Gal. - | E12: =IF(B12="","",SUM((B12-B10)/(D12))) | F12: Odometer- | H12: Fuel Gal.- | J12: =IF(G12="","",ROUND(SUM((G12-G10)/(I12)),2))
A13: Tank #66: (Without Xp3) | E13: Tank #66 | F13: Tank #82: (Without Xp3) | J13: Tank #82
A14: Odometer - | C14: Fuel Gal. - | E14: =IF(B14="","",SUM((B14-B12)/(D14))) | F14: Odometer- | H14: Fuel Gal.- | J14: =IF(G14="","",ROUND(SUM((G14-G12)/(I14)),2))
A15: Tank #67: (Without Xp3) | E15: Tank #67 | F15: Tank #83: (Without Xp3) | J15: Tank #83
A16: Odometer - | C16: Fuel Gal. - | E16: =IF(B16="","",SUM((B16-B14)/(D16))) | F16: Odometer- | H16: Fuel Gal.- | J16: =IF(G16="","",ROUND(SUM((G16-G14)/(I16)),2))
A17: Tank #68: (Without Xp3) | E17: Tank #68 | F17: Tank #84: (Without Xp3) | J17: Tank #84
A18: Odomter - | C18: Fuel Gal. - | E18: =IF(B18="","",SUM((B18-B16)/(D18))) | F18: Odometer- | H18: Fuel Gal.- | J18: =IF(G18="","",ROUND(SUM((G18-G16)/(I18)),2))
A19: Tank #69 | E19: Tank #69 | F19: Tank #85: (Without Xp3) | J19: Tank #85
A20: Odometer - | C20: Fuel Gal.- | E20: =IF(B20="","",SUM((B20-B18)/(D20))) | F20: Odometer- | H20: Fuel Gal.- | J20: =IF(G20="","",ROUND(SUM((G20-G18)/(I20)),2))
A21: Tank #70: (Without Xp3) | E21: Tank #70 | F21: Tank #86: (Without Xp3) | J21: Tank #86
A22: Odometer - | C22: Fuel Gal. - | E22: =IF(B22="","",SUM((B22-B20)/(D22))) | F22: Odometer- | H22: Fuel Gal.- | J22: =IF(G22="","",ROUND(SUM((G22-G20)/(I22)),2))
A23: Tank #71: (Without Xp3) | E23: Tank #71 | F23: Tank #87: (Without Xp3) | J23: Tank #87
A24: Odometer - | C24: Fuel Gal. - | E24: =IF(B24="","",SUM((B24-B22)/(D24))) | F24: Odometer- | H24: Fuel Gal.- | J24: =IF(G24="","",ROUND(SUM((G24-G22)/(I24)),2))
A25: Tank #72: (Without Xp3) | E25: Tank #72 | F25: Tank #88: (Without Xp3) | J25: Tank #88
A26: Odometer - | C26: Fuel Gal. - | E26: =IF(B26="","",SUM((B26-B24)/(D26))) | F26: Odometer- | H26: Fuel Gal.- | J26: =IF(G26="","",ROUND(SUM((G26-G24)/(I26)),2))
A27: Tank #73: (Without Xp3) | E27: Tank #73 | F27: Tank #89: (Without Xp3) | J27: Tank #89
A28: Odometer - | C28: Fuel Gal. - | E28: =IF(B28="","",SUM((B28-B26)/(D28))) | F28: Odometer- | H28: Fuel Gal.- | J28: =IF(G28="","",ROUND(SUM((G28-G26)/(I28)),2))
A29: Tank #74: (Without Xp3) | E29: Tank #74 | F29: Tank #90: (Without Xp3) | J29: Tank #90
A30: Odometer - | C30: Fuel Gal.- | E30: =IF(B30="","",SUM((B30-B28)/(D30))) | F30: Odometer- | H30: Fuel Gal.- | J30: =IF(G30="","",ROUND(SUM((G30-G28)/(I30)),2))
A31: Tank #75: (Without Xp3) | E31: Tank #75 | F31: Tank #91: (Without Xp3) | J31: Tank #91
A32: Odometer - | C32: Fuel Gal. - | E32: =IF(B32="","",SUM((B32-B30)/(D32))) | F32: Odometer- | H32: Fuel Gal.- | J32: =IF(G32="","",ROUND(SUM((G32-G30)/(I32)),2))
A33: Tank #76: (Without Xp3) | E33: Tank #76 | F33: Tank #92: (Without Xp3) | J33: Tank #92
A34: Odometer - | C34: Fuel Gal. - | E34: =IF(B34="","",SUM((B34-B32)/(D34))) | F34: Odometer- | H34: Fuel Gal.- | J34: =IF(G34="","",ROUND(SUM((G34-G32)/(I34)),2))
A35: Tank #77: (Without Xp3) | E35: Tank #77 | F35: Tank #93: (Without Xp3) | J35: Tank #93
A36: Odometer - | C36: Fuel Gal. - | E36: =IF(B36="","",SUM((B36-B34)/(D36))) | F36: Odometer- | H36: Fuel Gal.- | J36: =IF(G36="","",ROUND(SUM((G36-G34)/(I36)),2))
A37: Tank #78: (Without Xp3) | E37: Tank #78 | F37: Tank #94: (Without Xp3) | J37: Tank #94
A38: Odometer - | C38: Fuel Gal. - | E38: =IF(B38="","",SUM((B38-B36)/(D38))) | F38: Odometer- | H38: Fuel Gal.- | J38: =IF(G38="","",ROUND(SUM((G38-G36)/(I38)),2))
A39: Tank #79: (Without Xp3) | E39: Tank #79 | F39: Tank #95: (Final Without Xp3) | J39: Tank #95
A40: Odometer - | C40: Fuel Gal.- | E40: =IF(B40="","",SUM((B40-B38)/(D40))) | F40: Odometer- | H40: Fuel Gal.- | J40: =IF(G40="","",ROUND(SUM((G40-G38)/(I40)),2))
F41: Average MPG Tanks #64 Thru #95: | J41: =IF(ISERROR(AVERAGE(E10:E40,J10:J40)),"n/a",AVERAGE(E10:E40,J10:J40)) -> n/a
F42: Summary of MPG Results: | J42: -------------------
F43: Average MPG Tanks #1 Thru #11: | J43: =IF(ISERROR(ROUND(('NTFL-1A'!J47),2)),"n/a",ROUND(('NTFL-1A'!J47),2)) -> n/a | K43: =ROUND(J43,2) -> #VALUE!
B44: Place Your Company Logo Or Fuel Direct Logo Here | F44: Average MPG Tanks #12 Thru #31: | J44: =IF(ISERROR(ROUND(('NTFL-1A'!J48),2)),"n/a",ROUND(('NTFL-1A'!J48),2)) -> n/a
F45: Average MPG Tanks #32 Thru #63: | J45: =IF(ISERROR(ROUND('NTFL-1B'!J41,2)),"n/a",ROUND('NTFL-1B'!J41,2)) -> n/a
F46: Average MPG Tanks #64 Thru #95: | J46: =IF(ISERROR(ROUND(J41,2)),"n/a",ROUND(J41,2)) -> n/a
F47: Average MPG Tanks #12 Thru #95: | J47: =IF(ISERROR(SUM((J44+J45+J46)/(3))),"n/a",SUM((J44+J45+J46)/(3))) -> n/a
F48: Total MPG Incr./Decr. Tanks #1-#11 Compared To Tanks #12-#95: | J48: =IF(ISERROR((SUM(J47-J43))),"n/a",SUM(J47-J43)) -> n/a | K48: =ROUND(J48,2) -> #VALUE!
F49: Percentage Of Incr./Decr. In MPG Tanks #1-#11 To Tanks #12-#95: | J49: =IF(ISERROR(ROUND((K48/K43),2)),"n/a",ROUND((K48/K43),2)) -> n/a
J51: NTFL-1C
G52: =IF(ISBLANK(G40),J40,"")

Sheet NTFL-2A
F1: ='TFL-1A'!$F$1 -> XYZ Company Xp3 Trial Vehicle MPG Summary
F2: Driver Name/ID: Test
F3: Vehicle ID/Number:
F4: ='TFL-1A'!$F$4 -> Consultant Name:
F5: ='TFL-1A'!$F$5 -> Contact Number:
F6: ='TFL-1A'!$F$6 -> Date:
A8: Tanks #1 Thru #15 Without Xp3 | E8: MPG | F8: Tanks #16 Thru #31 Without Xp3 | J8: MPG
A9: Fill Tank Completely & Record Odometer | E9: Starting Tank | F9: Tank #16: (Without Xp3) | J9: Tank #16
A10: Odometer- | C10: Gal. Filled | D10: X | E10: ----------------- | F10: Odometer- | H10: Gal. Filled | J10: =IF(G10="","",SUM((G10-B40)/(I10)))
A11: Tank #1: (Without Xp3) | E11: Tank #1 | F11: Tank #17: (Without Xp3) | J11: Tank #17
A12: Odometer - | C12: Gal. Filled | E12: =IF(B12="","",SUM((B12-B10)/(D12))) | F12: Odometer- | H12: Gal. Filled | J12: =IF(G12="","",SUM((G12-G10)/(I12)))
A13: Tank #2: (Without Xp3) | E13: Tank #2 | F13: Tank #18: (Without Xp3) | J13: Tank #18
A14: Odometer - | C14: Gal. Filled | E14: =IF(B14="","",SUM((B14-B12)/(D14))) | F14: Odometer- | H14: Gal. Filled | J14: =IF(G14="","",SUM((G14-G12)/(I14)))
A15: Tank #3: (Without Xp3) | E15: Tank #3 | F15: Tank #19: (Without Xp3) | J15: Tank #19
A16: Odometer - | C16: Gal. Filled | E16: =IF(B16="","",SUM((B16-B14)/(D16))) | F16: Odometer- | H16: Gal. Filled | J16: =IF(G16="","",SUM((G16-G14)/(I16)))
A17: Tank #4: (Without Xp3) | E17: Tank #4 | F17: Tank #20: (Without Xp3) | J17: Tank #20
A18: Odomter - | C18: Gal. Filled | E18: =IF(B18="","",SUM((B18-B16)/(D18))) | F18: Odometer- | H18: Gal. Filled | J18: =IF(G18="","",SUM((G18-G16)/(I18)))
A19: Tank #5: (Without Xp3) | E19: Tank #5 | F19: Tank #21: (Without Xp3) | J19: Tank #21
A20: Odometer - | C20: Gal. Filled | E20: =IF(B20="","",SUM((B20-B18)/(D20))) | F20: Odometer- | H20: Gal. Filled | J20: =IF(G20="","",SUM((G20-G18)/(I20)))
A21: Tank #6: (Without Xp3) | E21: Tank #6 | F21: Tank #22: (Without Xp3) | J21: Tank #22
A22: Odometer - | C22: Gal. Filled | E22: =IF(B22="","",SUM((B22-B20)/(D22))) | F22: Odometer- | H22: Gal. Filled | J22: =IF(G22="","",SUM((G22-G20)/(I22)))
A23: Tank #7: (Without Xp3) | E23: Tank #7 | F23: Tank #23: (Without Xp3) | J23: Tank #23
A24: Odometer - | C24: Gal. Filled | E24: =IF(B24="","",SUM((B24-B22)/(D24))) | F24: Odometer- | H24: Gal. Filled | J24: =IF(G24="","",SUM((G24-G22)/(I24)))
A25: Tank #8: (Without Xp3) | E25: Tank #8 | F25: Tank #24: (Without Xp3) | J25: Tank #24
A26: Odometer - | C26: Gal. Filled | E26: =IF(B26="","",SUM((B26-B24)/(D26))) | F26: Odometer- | H26: Gal. Filled | J26: =IF(G26="","",SUM((G26-G24)/(I26)))
A27: Tank #9: (Without Xp3) | E27: Tank #9 | F27: Tank #25: (Without Xp3) | J27: Tank #25
A28: Odometer - | C28: Gal. Filled | E28: =IF(B28="","",SUM((B28-B26)/(D28))) | F28: Odometer- | H28: Gal. Filled | J28: =IF(G28="","",SUM((G28-G26)/(I28)))
A29: Tank #10): (Without Xp3) | E29: Tank #10 | F29: Tank #26: (Without Xp3) | J29: Tank #26
A30: Odometer - | C30: Gal. Filled | E30: =IF(B30="","",SUM((B30-B28)/(D30))) | F30: Odometer- | H30: Gal. Filled | J30: =IF(G30="","",SUM((G30-G28)/(I30)))
A31: Tank #11: (Without Xp3) | E31: Tank #11 | F31: Tank #27: (Without Xp3) | J31: Tank #27
A32: Odometer - | C32: Gal. Filled | E32: =IF(B32="","",SUM((B32-B30)/(D32))) | F32: Odometer- | H32: Gal. Filled | J32: =IF(G32="","",SUM((G32-G30)/(I32)))
A33: Tank #12: (Without Xp3) | E33: Tank #12 | F33: Tank #28: (Without Xp3) | J33: Tank #28
A34: Odometer - | C34: Gal. Filled | E34: =IF(B34="","",SUM((B34-B32)/(D34))) | F34: Odometer- | H34: Gal. Filled | J34: =IF(G34="","",SUM((G34-G32)/(I34)))
A35: Tank #13: (Without Xp3) | E35: Tank #13 | F35: Tank #29: (Without Xp3) | J35: Tank #29
A36: Odometer - | C36: Gal. Filled | E36: =IF(B36="","",SUM((B36-B34)/(D36))) | F36: Odometer- | H36: Gal. Filled | J36: =IF(G36="","",SUM((G36-G34)/(I36)))
A37: Tank #14: (Without Xp3) | E37: Tank #14 | F37: Tank #30: (Without Xp3) | J37: Tank #30
A38: Odometer - | C38: Gal. Filled | E38: =IF(B38="","",SUM((B38-B36)/(D38))) | F38: Odometer- | H38: Gal. Filled | J38: =IF(G38="","",SUM((G38-G36)/(I38)))
A39: Tank #15): (Without Xp3) | E39: Tank #15 | F39: Tank #31: (Without Xp3) | J39: Tank #31
A40: Odometer - | C40: Gal. Filled | E40: =IF(B40="","",SUM((B40-B38)/(D40))) | F40: Odometer- | H40: Gal. Filled | J40: =IF(G40="","",SUM((G40-G38)/(I40)))
F41: Average MPG Tanks #12 -#31: | J41: =IF(ISERROR(AVERAGE(E34:E40,J10:J40)),"n/a",AVERAGE(E34:E40,J10:J40)) -> n/a
B46: Place Your Company Logo Or Fuel Direct Logo Here | F46: Summary Of MPG Results: | J46: -------------------
F47: Average MPG Tanks #1- #11: | J47: =IF(ISERROR(AVERAGE(E11:E32)),"n/a",(AVERAGE(E11:E32))) -> n/a
F48: Average MPG Tanks #12- #31: | J48: =IF(ISERROR(AVERAGE(E34:E40,J10:J40)),"n/a",AVERAGE(E34:E40,J10:J40)) -> n/a
G50: =IF(ISBLANK(G40),J40,"") | J50: NTFL-2A

Sheet NTFL-2B
F1: ='TFL-1A'!$F$1 -> XYZ Company Xp3 Trial Vehicle MPG Summary
F2: ='NTFL-2A'!F2 -> Driver Name/ID: Test
F3: ='NTFL-2A'!F3 -> Vehicle ID/Number:
F4: ='NTFL-2A'!F4 -> Consultant Name:
F5: ='NTFL-2A'!F5 -> Contact Number:
F6: ='NTFL-2A'!F6 -> Date:
A8: Tanks #32 Thru #47 Without Xp3 | E8: MPG | F8: Tanks #48 Thru #63 Without Xp3 | J8: MPG
A9: Tank #32: (Without Xp3) | E9: Tank #32 | F9: Tank #48: (Without Xp3) | J9: Tank #48
A10: Odometer- | C10: Gal. Filled | E10: =IF(B10="","",ROUND(SUM((B10-'NTFL-2A'!G40)/(D10)),2)) | F10: Odometer- | H10: Gal. Filled | J10: =IF(G10="","",ROUND(SUM((G10-B40)/(I10)),2))
A11: Tank #33: (Without Xp3) | E11: Tank #33 | F11: Tank #49: (Without Xp3) | J11: Tank #49
A12: Odometer - | C12: Gal. Filled | E12: =IF(B12="","",ROUND(SUM((B12-B10)/(D12)),2)) | F12: Odometer- | H12: Gal. Filled | J12: =IF(G12="","",ROUND(SUM((G12-G10)/(I12)),2))
A13: Tank #34: (Without Xp3) | E13: Tank #34 | F13: Tank #50: (Without Xp3) | J13: Tank #50
A14: Odometer - | C14: Gal. Filled | E14: =IF(B14="","",ROUND(SUM((B14-B12)/(D14)),2)) | F14: Odometer- | H14: Gal. Filled | J14: =IF(G14="","",ROUND(SUM((G14-G12)/(I14)),2))
A15: Tank #35: (Without Xp3) | E15: Tank #35 | F15: Tank #51: (Without Xp3) | J15: Tank #51
A16: Odometer - | C16: Gal. Filled | E16: =IF(B16="","",ROUND(SUM((B16-B14)/(D16)),2)) | F16: Odometer- | H16: Gal. Filled | J16: =IF(G16="","",ROUND(SUM((G16-G14)/(I16)),2))
A17: Tank #36: (Without Xp3) | E17: Tank #36 | F17: Tank #52: (Without Xp3) | J17: Tank #52
A18: Odomter - | C18: Gal. Filled | E18: =IF(B18="","",ROUND(SUM((B18-B16)/(D18)),2)) | F18: Odometer- | H18: Gal. Filled | J18: =IF(G18="","",ROUND(SUM((G18-G16)/(I18)),2))
A19: Tank #37: (Without Xp3) | E19: Tank #37 | F19: Tank #53: (Without Xp3) | J19: Tank #53
A20: Odometer - | C20: Gal. Filled | E20: =IF(B20="","",ROUND(SUM((B20-B18)/(D20)),2)) | F20: Odometer- | H20: Gal. Filled | J20: =IF(G20="","",ROUND(SUM((G20-G18)/(I20)),2))
A21: Tank #38: (Without Xp3) | E21: Tank #38 | F21: Tank #54: (Without Xp3) | J21: Tank #54
A22: Odometer - | C22: Gal. Filled | E22: =IF(B22="","",ROUND(SUM((B22-B20)/(D22)),2)) | F22: Odometer- | H22: Gal. Filled | J22: =IF(G22="","",ROUND(SUM((G22-G20)/(I22)),2))
A23: Tank #39: (Without Xp3) | E23: Tank #39 | F23: Tank #55: (Without Xp3) | J23: Tank #55
A24: Odometer - | C24: Gal. Filled | E24: =IF(B24="","",ROUND(SUM((B24-B22)/(D24)),2)) | F24: Odometer- | H24: Gal. Filled | J24: =IF(G24="","",ROUND(SUM((G24-G22)/(I24)),2))
A25: Tank #40: (Without Xp3) | E25: Tank #40 | F25: Tank #56: (Without Xp3) | J25: Tank #56
A26: Odometer - | C26: Gal. Filled | E26: =IF(B26="","",ROUND(SUM((B26-B24)/(D26)),2)) | F26: Odometer- | H26: Gal. Filled | J26: =IF(G26="","",ROUND(SUM((G26-G24)/(I26)),2))
A27: Tank #41: (Without Xp3) | E27: Tank #41 | F27: Tank #57: (Without Xp3) | J27: Tank #57
A28: Odometer - | C28: Gal. Filled | E28: =IF(B28="","",ROUND(SUM((B28-B26)/(D28)),2)) | F28: Odometer- | H28: Gal. Filled | J28: =IF(G28="","",ROUND(SUM((G28-G26)/(I28)),2))
A29: Tank #42: (Without Xp3) | E29: Tank #42 | F29: Tank #58: (Without Xp3) | J29: Tank #58
A30: Odometer - | C30: Gal. Filled | E30: =IF(B30="","",ROUND(SUM((B30-B28)/(D30)),2)) | F30: Odometer- | H30: Gal. Filled | J30: =IF(G30="","",ROUND(SUM((G30-G28)/(I30)),2))
A31: Tank #43: (Without Xp3) | E31: Tank #43 | F31: Tank #59: (Without Xp3) | J31: Tank #59
A32: Odometer - | C32: Gal. Filled | E32: =IF(B32="","",ROUND(SUM((B32-B30)/(D32)),2)) | F32: Odometer- | H32: Gal. Filled | J32: =IF(G32="","",ROUND(SUM((G32-G30)/(I32)),2))
A33: Tank #44: (Without Xp3) | E33: Tank #44 | F33: Tank #60: (Without Xp3) | J33: Tank #60
A34: Odometer - | C34: Gal. Filled | E34: =IF(B34="","",ROUND(SUM((B34-B32)/(D34)),2)) | F34: Odometer- | H34: Gal. Filled | J34: =IF(G34="","",ROUND(SUM((G34-G32)/(I34)),2))
A35: Tank #45: (Without Xp3) | E35: Tank #45 | F35: Tank #61: (Without Xp3) | J35: Tank #61
A36: Odometer - | C36: Gal. Filled | E36: =IF(B36="","",ROUND(SUM((B36-B34)/(D36)),2)) | F36: Odometer- | H36: Gal. Filled | J36: =IF(G36="","",ROUND(SUM((G36-G34)/(I36)),2))
A37: Tank #46: (Without Xp3) | E37: Tank #46 | F37: Tank #62: (Without Xp3) | J37: Tank #62
A38: Odometer - | C38: Gal. Filled | E38: =IF(B38="","",ROUND(SUM((B38-B36)/(D38)),2)) | F38: Odometer- | H38: Gal. Filled | J38: =IF(G38="","",ROUND(SUM((G38-G36)/(I38)),2))
A39: Tank #47: (Without Xp3) | E39: Tank #47 | F39: Tank #63: (Without Xp3) | J39: Tank #63
A40: Odometer - | C40: Gal. Filled | E40: =IF(B40="","",ROUND(SUM((B40-B38)/(D40)),2)) | F40: Odometer- | H40: Gal. Filled | J40: =IF(G40="","",ROUND(SUM((G40-G38)/(I40)),2))
F41: Average MPG Tank #32 Thru Tank #63: | J41: =IF(ISERROR(AVERAGE(E10:E40,J10:J40)),"n/a",AVERAGE(E10:E40,J10:J40)) -> n/a
F42: Summary of MPG Results | J42: -------------------
F43: Average MPG Tanks #1 Thru #11: | J43: =IF(ISERROR(ROUND(('NTFL-2A'!J47),2)),"n/a",ROUND(('NTFL-2A'!J47),2)) -> n/a
B44: Place Your Company Logo Or Fuel Direct Logo Here | F44: Average MPG Tanks #12 Thru #31: | J44: =IF(ISERROR(ROUND(('NTFL-2A'!J48),2)),"n/a",ROUND(('NTFL-2A'!J48),2)) -> n/a
F45: Average MPG Tanks #32 Thru #63: | J45: =IF(ISERROR(ROUND(J41,2)),"n/a",ROUND(J41,2)) -> n/a
F46: Average MPG Tanks #12 Thru #63: | J46: =IF(ISERROR(ROUND(SUM((J45+J44)/(2)),2)),"n/a",ROUND(SUM((J45+J44)/(2)),2)) -> n/a
J48: NTFL-2B
G49: =IF(ISBLANK(G40),J40,"")

Sheet NTFL-2C
F1: ='NTFL-2A'!$F$1 -> XYZ Company Xp3 Trial Vehicle MPG Summary
F2: ='NTFL-2B'!F2 -> Driver Name/ID: Test
F3: ='NTFL-2A'!$F$3 -> Vehicle ID/Number:
F4: ='NTFL-2A'!$F$4 -> Consultant Name:
F5: ='NTFL-2A'!$F$5 -> Contact Number:
F6: ='NTFL-2A'!$F$6 -> Date:
A8: Tanks #64 Thru #79 Without Xp3 | E8: MPG | F8: Tanks #80 Thru #95 Without Xp3 | J8: MPG
A9: Tank #64: (Without Xp3) | E9: Tank #64 | F9: Tank #80: (Without Xp3) | J9: Tank #80
A10: Odometer- | C10: Fuel Gal. | E10: =IF(B10="","",SUM((B10-'NTFL-2B'!G40)/(D10))) | F10: Odometer- | H10: Fuel Gal.- | J10: =IF(G10="","",ROUND(SUM((G10-B40)/(I10)),2))
A11: Tank #65: (Without Xp3) | E11: Tank #65 | F11: Tank #81: (Without Xp3) | J11: Tank #81
A12: Odometer - | C12: Fuel Gal. - | E12: =IF(B12="","",SUM((B12-B10)/(D12))) | F12: Odometer- | H12: Fuel Gal.- | J12: =IF(G12="","",ROUND(SUM((G12-G10)/(I12)),2))
A13: Tank #66: (Without Xp3) | E13: Tank #66 | F13: Tank #82: (Without Xp3) | J13: Tank #82
A14: Odometer - | C14: Fuel Gal. - | E14: =IF(B14="","",SUM((B14-B12)/(D14))) | F14: Odometer- | H14: Fuel Gal.- | J14: =IF(G14="","",ROUND(SUM((G14-G12)/(I14)),2))
A15: Tank #67: (Without Xp3) | E15: Tank #67 | F15: Tank #83: (Without Xp3) | J15: Tank #83
A16: Odometer - | C16: Fuel Gal. - | E16: =IF(B16="","",SUM((B16-B14)/(D16))) | F16: Odometer- | H16: Fuel Gal.- | J16: =IF(G16="","",ROUND(SUM((G16-G14)/(I16)),2))
A17: Tank #68: (Without Xp3) | E17: Tank #68 | F17: Tank #84: (Without Xp3) | J17: Tank #84
A18: Odomter - | C18: Fuel Gal. - | E18: =IF(B18="","",SUM((B18-B16)/(D18))) | F18: Odometer- | H18: Fuel Gal.- | J18: =IF(G18="","",ROUND(SUM((G18-G16)/(I18)),2))
A19: Tank #69 | E19: Tank #69 | F19: Tank #85: (Without Xp3) | J19: Tank #85
A20: Odometer - | C20: Fuel Gal.- | E20: =IF(B20="","",SUM((B20-B18)/(D20))) | F20: Odometer- | H20: Fuel Gal.- | J20: =IF(G20="","",ROUND(SUM((G20-G18)/(I20)),2))
A21: Tank #70: (Without Xp3) | E21: Tank #70 | F21: Tank #86: (Without Xp3) | J21: Tank #86
A22: Odometer - | C22: Fuel Gal. - | E22: =IF(B22="","",SUM((B22-B20)/(D22))) | F22: Odometer- | H22: Fuel Gal.- | J22: =IF(G22="","",ROUND(SUM((G22-G20)/(I22)),2))
A23: Tank #71: (Without Xp3) | E23: Tank #71 | F23: Tank #87: (Without Xp3) | J23: Tank #87
A24: Odometer - | C24: Fuel Gal. - | E24: =IF(B24="","",SUM((B24-B22)/(D24))) | F24: Odometer- | H24: Fuel Gal.- | J24: =IF(G24="","",ROUND(SUM((G24-G22)/(I24)),2))
A25: Tank #72: (Without Xp3) | E25: Tank #72 | F25: Tank #88: (Without Xp3) | J25: Tank #88
A26: Odometer - | C26: Fuel Gal. - | E26: =IF(B26="","",SUM((B26-B24)/(D26))) | F26: Odometer- | H26: Fuel Gal.- | J26: =IF(G26="","",ROUND(SUM((G26-G24)/(I26)),2))
A27: Tank #73: (Without Xp3) | E27: Tank #73 | F27: Tank #89: (Without Xp3) | J27: Tank #89
A28: Odometer - | C28: Fuel Gal. - | E28: =IF(B28="","",SUM((B28-B26)/(D28))) | F28: Odometer- | H28: Fuel Gal.- | J28: =IF(G28="","",ROUND(SUM((G28-G26)/(I28)),2))
A29: Tank #74: (Without Xp3) | E29: Tank #74 | F29: Tank #90: (Without Xp3) | J29: Tank #90
A30: Odometer - | C30: Fuel Gal.- | E30: =IF(B30="","",SUM((B30-B28)/(D30))) | F30: Odometer- | H30: Fuel Gal.- | J30: =IF(G30="","",ROUND(SUM((G30-G28)/(I30)),2))
A31: Tank #75: (Without Xp3) | E31: Tank #75 | F31: Tank #91: (Without Xp3) | J31: Tank #91
A32: Odometer - | C32: Fuel Gal. - | E32: =IF(B32="","",SUM((B32-B30)/(D32))) | F32: Odometer- | H32: Fuel Gal.- | J32: =IF(G32="","",ROUND(SUM((G32-G30)/(I32)),2))
A33: Tank #76: (Without Xp3) | E33: Tank #76 | F33: Tank #92: (Without Xp3) | J33: Tank #92
A34: Odometer - | C34: Fuel Gal. - | E34: =IF(B34="","",SUM((B34-B32)/(D34))) | F34: Odometer- | H34: Fuel Gal.- | J34: =IF(G34="","",ROUND(SUM((G34-G32)/(I34)),2))
A35: Tank #77: (Without Xp3) | E35: Tank #77 | F35: Tank #93: (Without Xp3) | J35: Tank #93
A36: Odometer - | C36: Fuel Gal. - | E36: =IF(B36="","",SUM((B36-B34)/(D36))) | F36: Odometer- | H36: Fuel Gal.- | J36: =IF(G36="","",ROUND(SUM((G36-G34)/(I36)),2))
A37: Tank #78: (Without Xp3) | E37: Tank #78 | F37: Tank #94: (Without Xp3) | J37: Tank #94
A38: Odometer - | C38: Fuel Gal. - | E38: =IF(B38="","",SUM((B38-B36)/(D38))) | F38: Odometer- | H38: Fuel Gal.- | J38: =IF(G38="","",ROUND(SUM((G38-G36)/(I38)),2))
A39: Tank #79: (Without Xp3) | E39: Tank #79 | F39: Tank #95: (Final Without Xp3) | J39: Tank #95
A40: Odometer - | C40: Fuel Gal.- | E40: =IF(B40="","",SUM((B40-B38)/(D40))) | F40: Odometer- | H40: Fuel Gal.- | J40: =IF(G40="","",ROUND(SUM((G40-G38)/(I40)),2))
F41: Average MPG Tanks #64 Thru #95: | J41: =IF(ISERROR(AVERAGE(E10:E40,J10:J40)),"n/a",AVERAGE(E10:E40,J10:J40)) -> n/a
F42: Summary of MPG Results: | J42: -------------------
F43: Average MPG Tanks #1 Thru #11: | J43: =IF(ISERROR(ROUND(('NTFL-2A'!J47),2)),"n/a",ROUND(('NTFL-2A'!J47),2)) -> n/a | K43: =ROUND(J43,2) -> #VALUE!
B44: Place Your Company Logo Or Fuel Direct Logo Here | F44: Average MPG Tanks #12 Thru #31: | J44: =IF(ISERROR(ROUND(('NTFL-2A'!J48),2)),"n/a",ROUND(('NTFL-2A'!J48),2)) -> n/a
F45: Average MPG Tanks #32 Thru #63: | J45: =IF(ISERROR(ROUND('NTFL-2B'!J41,2)),"n/a",ROUND('NTFL-2B'!J41,2)) -> n/a
F46: Average MPG Tanks #64 Thru #95: | J46: =IF(ISERROR(ROUND(J41,2)),"n/a",ROUND(J41,2)) -> n/a
F47: Average MPG Tanks #12 Thru #95: | J47: =IF(ISERROR(SUM((J44+J45+J46)/(3))),"n/a",SUM((J44+J45+J46)/(3))) -> n/a
F48: Total MPG Incr./Decr. Tanks #1-#11 Compared To Tanks #12-#95: | J48: =IF(ISERROR((SUM(J47-J43))),"n/a",SUM(J47-J43)) -> n/a | K48: =ROUND(J48,2) -> #VALUE!
F49: Percentage Of Incr./Decr. In MPG Tanks #1-#11 To Tanks #12-#95: | J49: =IF(ISERROR(ROUND((K48/K43),2)),"n/a",ROUND((K48/K43),2)) -> n/a
J51: NTFL-2C | K51: TFL-1A
G52: =IF(ISBLANK(G40),J40,"")

Sheet NTFL-3A
F1: ='TFL-1A'!$F$1 -> XYZ Company Xp3 Trial Vehicle MPG Summary
F2: Driver Name/ID:
F3: Vehicle ID/Number:
F4: ='TFL-1A'!$F$4 -> Consultant Name:
F5: ='TFL-1A'!$F$5 -> Contact Number:
F6: ='TFL-1A'!$F$6 -> Date:
A8: Tanks #1 Thru #15 Without Xp3 | E8: MPG | F8: Tanks #16 Thru #31 Without Xp3 | J8: MPG
A9: Fill Tank Completely & Record Odometer | E9: Starting Tank | F9: Tank #16: (Without Xp3) | J9: Tank #16
A10: Odometer- | C10: Gal. Filled | D10: X | E10: ----------------- | F10: Odometer- | H10: Gal. Filled | J10: =IF(G10="","",SUM((G10-B40)/(I10)))
A11: Tank #1: (Without Xp3) | E11: Tank #1 | F11: Tank #17: (Without Xp3) | J11: Tank #17
A12: Odometer - | C12: Gal. Filled | E12: =IF(B12="","",SUM((B12-B10)/(D12))) | F12: Odometer- | H12: Gal. Filled | J12: =IF(G12="","",SUM((G12-G10)/(I12)))
A13: Tank #2: (Without Xp3) | E13: Tank #2 | F13: Tank #18: (Without Xp3) | J13: Tank #18
A14: Odometer - | C14: Gal. Filled | E14: =IF(B14="","",SUM((B14-B12)/(D14))) | F14: Odometer- | H14: Gal. Filled | J14: =IF(G14="","",SUM((G14-G12)/(I14)))
A15: Tank #3: (Without Xp3) | E15: Tank #3 | F15: Tank #19: (Without Xp3) | J15: Tank #19
A16: Odometer - | C16: Gal. Filled | E16: =IF(B16="","",SUM((B16-B14)/(D16))) | F16: Odometer- | H16: Gal. Filled | J16: =IF(G16="","",SUM((G16-G14)/(I16)))
A17: Tank #4: (Without Xp3) | E17: Tank #4 | F17: Tank #20: (Without Xp3) | J17: Tank #20
A18: Odomter - | C18: Gal. Filled | E18: =IF(B18="","",SUM((B18-B16)/(D18))) | F18: Odometer- | H18: Gal. Filled | J18: =IF(G18="","",SUM((G18-G16)/(I18)))
A19: Tank #5: (Without Xp3) | E19: Tank #5 | F19: Tank #21: (Without Xp3) | J19: Tank #21
A20: Odometer - | C20: Gal. Filled | E20: =IF(B20="","",SUM((B20-B18)/(D20))) | F20: Odometer- | H20: Gal. Filled | J20: =IF(G20="","",SUM((G20-G18)/(I20)))
A21: Tank #6: (Without Xp3) | E21: Tank #6 | F21: Tank #22: (Without Xp3) | J21: Tank #22
A22: Odometer - | C22: Gal. Filled | E22: =IF(B22="","",SUM((B22-B20)/(D22))) | F22: Odometer- | H22: Gal. Filled | J22: =IF(G22="","",SUM((G22-G20)/(I22)))
A23: Tank #7: (Without Xp3) | E23: Tank #7 | F23: Tank #23: (Without Xp3) | J23: Tank #23
A24: Odometer - | C24: Gal. Filled | E24: =IF(B24="","",SUM((B24-B22)/(D24))) | F24: Odometer- | H24: Gal. Filled | J24: =IF(G24="","",SUM((G24-G22)/(I24)))
A25: Tank #8: (Without Xp3) | E25: Tank #8 | F25: Tank #24: (Without Xp3) | J25: Tank #24
A26: Odometer - | C26: Gal. Filled | E26: =IF(B26="","",SUM((B26-B24)/(D26))) | F26: Odometer- | H26: Gal. Filled | J26: =IF(G26="","",SUM((G26-G24)/(I26)))
A27: Tank #9: (Without Xp3) | E27: Tank #9 | F27: Tank #25: (Without Xp3) | J27: Tank #25
A28: Odometer - | C28: Gal. Filled | E28: =IF(B28="","",SUM((B28-B26)/(D28))) | F28: Odometer- | H28: Gal. Filled | J28: =IF(G28="","",SUM((G28-G26)/(I28)))
A29: Tank #10): (Without Xp3) | E29: Tank #10 | F29: Tank #26: (Without Xp3) | J29: Tank #26
A30: Odometer - | C30: Gal. Filled | E30: =IF(B30="","",SUM((B30-B28)/(D30))) | F30: Odometer- | H30: Gal. Filled | J30: =IF(G30="","",SUM((G30-G28)/(I30)))
A31: Tank #11: (Without Xp3) | E31: Tank #11 | F31: Tank #27: (Without Xp3) | J31: Tank #27
A32: Odometer - | C32: Gal. Filled | E32: =IF(B32="","",SUM((B32-B30)/(D32))) | F32: Odometer- | H32: Gal. Filled | J32: =IF(G32="","",SUM((G32-G30)/(I32)))
A33: Tank #12: (Without Xp3) | E33: Tank #12 | F33: Tank #28: (Without Xp3) | J33: Tank #28
A34: Odometer - | C34: Gal. Filled | E34: =IF(B34="","",SUM((B34-B32)/(D34))) | F34: Odometer- | H34: Gal. Filled | J34: =IF(G34="","",SUM((G34-G32)/(I34)))
A35: Tank #13: (Without Xp3) | E35: Tank #13 | F35: Tank #29: (Without Xp3) | J35: Tank #29
A36: Odometer - | C36: Gal. Filled | E36: =IF(B36="","",SUM((B36-B34)/(D36))) | F36: Odometer- | H36: Gal. Filled | J36: =IF(G36="","",SUM((G36-G34)/(I36)))
A37: Tank #14: (Without Xp3) | E37: Tank #14 | F37: Tank #30: (Without Xp3) | J37: Tank #30
A38: Odometer - | C38: Gal. Filled | E38: =IF(B38="","",SUM((B38-B36)/(D38))) | F38: Odometer- | H38: Gal. Filled | J38: =IF(G38="","",SUM((G38-G36)/(I38)))
A39: Tank #15): (Without Xp3) | E39: Tank #15 | F39: Tank #31: (Without Xp3) | J39: Tank #31
A40: Odometer - | C40: Gal. Filled | E40: =IF(B40="","",SUM((B40-B38)/(D40))) | F40: Odometer- | H40: Gal. Filled | J40: =IF(G40="","",SUM((G40-G38)/(I40)))
F41: Average MPG Tanks #12 -#31: | J41: =AVERAGE(E34:E40,J10:J40) -> #DIV/0!
B46: Place Your Company Logo Or Fuel Direct Logo Here | F46: Summary Of MPG Results: | J46: -------------------
F47: Average MPG Tanks #1- #11: | J47: =IF(ISERROR(AVERAGE(E11:E32)),"n/a",(AVERAGE(E11:E32))) -> n/a
F48: Average MPG Tanks #12- #31: | J48: =IF(ISERROR(AVERAGE(E34:E40,J10:J40)),"n/a",AVERAGE(E34:E40,J10:J40)) -> n/a
G50: =IF(ISBLANK(G40),J40,"") | J50: NTFL-3A

Sheet NTFL-3B
F1: ='NTFL-3A'!F1 -> XYZ Company Xp3 Trial Vehicle MPG Summary
F2: ='NTFL-3A'!F2 -> Driver Name/ID:
F3: ='NTFL-3A'!F3 -> Vehicle ID/Number:
F4: ='NTFL-3A'!F4 -> Consultant Name:
F5: ='NTFL-3A'!F5 -> Contact Number:
F6: ='NTFL-3A'!F6 -> Date:
A8: Tanks #32 Thru #47 Without Xp3 | E8: MPG | F8: Tanks #48 Thru #63 Without Xp3 | J8: MPG
A9: Tank #32: (Without Xp3) | E9: Tank #32 | F9: Tank #48: (Without Xp3) | J9: Tank #48
A10: Odometer- | C10: Gal. Filled | E10: =IF(B10="","",ROUND(SUM((B10-'NTFL-3A'!G40)/(D10)),2)) | F10: Odometer- | H10: Gal. Filled | J10: =IF(G10="","",ROUND(SUM((G10-B40)/(I10)),2))
A11: Tank #33: (Without Xp3) | E11: Tank #33 | F11: Tank #49: (Without Xp3) | J11: Tank #49
A12: Odometer - | C12: Gal. Filled | E12: =IF(B12="","",ROUND(SUM((B12-B10)/(D12)),2)) | F12: Odometer- | H12: Gal. Filled | J12: =IF(G12="","",ROUND(SUM((G12-G10)/(I12)),2))
A13: Tank #34: (Without Xp3) | E13: Tank #34 | F13: Tank #50: (Without Xp3) | J13: Tank #50
A14: Odometer - | C14: Gal. Filled | E14: =IF(B14="","",ROUND(SUM((B14-B12)/(D14)),2)) | F14: Odometer- | H14: Gal. Filled | J14: =IF(G14="","",ROUND(SUM((G14-G12)/(I14)),2))
A15: Tank #35: (Without Xp3) | E15: Tank #35 | F15: Tank #51: (Without Xp3) | J15: Tank #51
A16: Odometer - | C16: Gal. Filled | E16: =IF(B16="","",ROUND(SUM((B16-B14)/(D16)),2)) | F16: Odometer- | H16: Gal. Filled | J16: =IF(G16="","",ROUND(SUM((G16-G14)/(I16)),2))
A17: Tank #36: (Without Xp3) | E17: Tank #36 | F17: Tank #52: (Without Xp3) | J17: Tank #52
A18: Odomter - | C18: Gal. Filled | E18: =IF(B18="","",ROUND(SUM((B18-B16)/(D18)),2)) | F18: Odometer- | H18: Gal. Filled | J18: =IF(G18="","",ROUND(SUM((G18-G16)/(I18)),2))
A19: Tank #37: (Without Xp3) | E19: Tank #37 | F19: Tank #53: (Without Xp3) | J19: Tank #53
A20: Odometer - | C20: Gal. Filled | E20: =IF(B20="","",ROUND(SUM((B20-B18)/(D20)),2)) | F20: Odometer- | H20: Gal. Filled | J20: =IF(G20="","",ROUND(SUM((G20-G18)/(I20)),2))
A21: Tank #38: (Without Xp3) | E21: Tank #38 | F21: Tank #54: (Without Xp3) | J21: Tank #54
A22: Odometer - | C22: Gal. Filled | E22: =IF(B22="","",ROUND(SUM((B22-B20)/(D22)),2)) | F22: Odometer- | H22: Gal. Filled | J22: =IF(G22="","",ROUND(SUM((G22-G20)/(I22)),2))
A23: Tank #39: (Without Xp3) | E23: Tank #39 | F23: Tank #55: (Without Xp3) | J23: Tank #55
A24: Odometer - | C24: Gal. Filled | E24: =IF(B24="","",ROUND(SUM((B24-B22)/(D24)),2)) | F24: Odometer- | H24: Gal. Filled | J24: =IF(G24="","",ROUND(SUM((G24-G22)/(I24)),2))
A25: Tank #40: (Without Xp3) | E25: Tank #40 | F25: Tank #56: (Without Xp3) | J25: Tank #56
A26: Odometer - | C26: Gal. Filled | E26: =IF(B26="","",ROUND(SUM((B26-B24)/(D26)),2)) | F26: Odometer- | H26: Gal. Filled | J26: =IF(G26="","",ROUND(SUM((G26-G24)/(I26)),2))
A27: Tank #41: (Without Xp3) | E27: Tank #41 | F27: Tank #57: (Without Xp3) | J27: Tank #57
A28: Odometer - | C28: Gal. Filled | E28: =IF(B28="","",ROUND(SUM((B28-B26)/(D28)),2)) | F28: Odometer- | H28: Gal. Filled | J28: =IF(G28="","",ROUND(SUM((G28-G26)/(I28)),2))
A29: Tank #42: (Without Xp3) | E29: Tank #42 | F29: Tank #58: (Without Xp3) | J29: Tank #58
A30: Odometer - | C30: Gal. Filled | E30: =IF(B30="","",ROUND(SUM((B30-B28)/(D30)),2)) | F30: Odometer- | H30: Gal. Filled | J30: =IF(G30="","",ROUND(SUM((G30-G28)/(I30)),2))
A31: Tank #43: (Without Xp3) | E31: Tank #43 | F31: Tank #59: (Without Xp3) | J31: Tank #59
A32: Odometer - | C32: Gal. Filled | E32: =IF(B32="","",ROUND(SUM((B32-B30)/(D32)),2)) | F32: Odometer- | H32: Gal. Filled | J32: =IF(G32="","",ROUND(SUM((G32-G30)/(I32)),2))
A33: Tank #44: (Without Xp3) | E33: Tank #44 | F33: Tank #60: (Without Xp3) | J33: Tank #60
A34: Odometer - | C34: Gal. Filled | E34: =IF(B34="","",ROUND(SUM((B34-B32)/(D34)),2)) | F34: Odometer- | H34: Gal. Filled | J34: =IF(G34="","",ROUND(SUM((G34-G32)/(I34)),2))
A35: Tank #45: (Without Xp3) | E35: Tank #45 | F35: Tank #61: (Without Xp3) | J35: Tank #61
A36: Odometer - | C36: Gal. Filled | E36: =IF(B36="","",ROUND(SUM((B36-B34)/(D36)),2)) | F36: Odometer- | H36: Gal. Filled | J36: =IF(G36="","",ROUND(SUM((G36-G34)/(I36)),2))
A37: Tank #46: (Without Xp3) | E37: Tank #46 | F37: Tank #62: (Without Xp3) | J37: Tank #62
A38: Odometer - | C38: Gal. Filled | E38: =IF(B38="","",ROUND(SUM((B38-B36)/(D38)),2)) | F38: Odometer- | H38: Gal. Filled | J38: =IF(G38="","",ROUND(SUM((G38-G36)/(I38)),2))
A39: Tank #47: (Without Xp3) | E39: Tank #47 | F39: Tank #63: (Without Xp3) | J39: Tank #63
A40: Odometer - | C40: Gal. Filled | E40: =IF(B40="","",ROUND(SUM((B40-B38)/(D40)),2)) | F40: Odometer- | H40: Gal. Filled | J40: =IF(G40="","",ROUND(SUM((G40-G38)/(I40)),2))
F41: Average MPG Tank #32 Thru Tank #63: | J41: =IF(ISERROR(AVERAGE(E10:E40,J10:J40)),"n/a",AVERAGE(E10:E40,J10:J40)) -> n/a
F42: Summary of MPG Results | J42: -------------------
F43: Average MPG Tanks #1 Thru #11: | J43: =IF(ISERROR(ROUND(('NTFL-3A'!J47),2)),"n/a",ROUND(('NTFL-3A'!J47),2)) -> n/a
B44: Place Your Company Logo Or Fuel Direct Logo Here | F44: Average MPG Tanks #12 Thru #31: | J44: =IF(ISERROR(ROUND(('NTFL-3A'!J48),2)),"n/a",ROUND(('NTFL-3A'!J48),2)) -> n/a
F45: Average MPG Tanks #32 Thru #63: | J45: =IF(ISERROR(ROUND(J41,2)),"n/a",ROUND(J41,2)) -> n/a
F46: Average MPG Tanks #12 Thru #63: | J46: =IF(ISERROR(ROUND(SUM((J45+J44)/(2)),2)),"n/a",ROUND(SUM((J45+J44)/(2)),2)) -> n/a
J48: NTFL-3B
G49: =IF(ISBLANK(G40),J40,"")

Sheet NTFL-3C
F1: ='NTFL-3A'!F1 -> XYZ Company Xp3 Trial Vehicle MPG Summary
F2: ='NTFL-3A'!F2 -> Driver Name/ID:
F3: ='NTFL-3A'!F3 -> Vehicle ID/Number:
F4: ='NTFL-3A'!F4 -> Consultant Name:
F5: ='NTFL-3A'!F5 -> Contact Number:
F6: ='NTFL-3A'!F6 -> Date:
A8: Tanks #64 Thru #79 Without Xp3 | E8: MPG | F8: Tanks #80 Thru #95 Without Xp3 | J8: MPG
A9: Tank #64: (Without Xp3) | E9: Tank #64 | F9: Tank #80: (Without Xp3) | J9: Tank #80
A10: Odometer- | C10: Fuel Gal. | E10: =IF(B10="","",SUM((B10-'NTFL-3B'!G40)/(D10))) | F10: Odometer- | H10: Fuel Gal.- | J10: =IF(G10="","",ROUND(SUM((G10-B40)/(I10)),2))
A11: Tank #65: (Without Xp3) | E11: Tank #65 | F11: Tank #81: (Without Xp3) | J11: Tank #81
A12: Odometer - | C12: Fuel Gal. - | E12: =IF(B12="","",SUM((B12-B10)/(D12))) | F12: Odometer- | H12: Fuel Gal.- | J12: =IF(G12="","",ROUND(SUM((G12-G10)/(I12)),2))
A13: Tank #66: (Without Xp3) | E13: Tank #66 | F13: Tank #82: (Without Xp3) | J13: Tank #82
A14: Odometer - | C14: Fuel Gal. - | E14: =IF(B14="","",SUM((B14-B12)/(D14))) | F14: Odometer- | H14: Fuel Gal.- | J14: =IF(G14="","",ROUND(SUM((G14-G12)/(I14)),2))
A15: Tank #67: (Without Xp3) | E15: Tank #67 | F15: Tank #83: (Without Xp3) | J15: Tank #83
A16: Odometer - | C16: Fuel Gal. - | E16: =IF(B16="","",SUM((B16-B14)/(D16))) | F16: Odometer- | H16: Fuel Gal.- | J16: =IF(G16="","",ROUND(SUM((G16-G14)/(I16)),2))
A17: Tank #68: (Without Xp3) | E17: Tank #68 | F17: Tank #84: (Without Xp3) | J17: Tank #84
A18: Odomter - | C18: Fuel Gal. - | E18: =IF(B18="","",SUM((B18-B16)/(D18))) | F18: Odometer- | H18: Fuel Gal.- | J18: =IF(G18="","",ROUND(SUM((G18-G16)/(I18)),2))
A19: Tank #69 | E19: Tank #69 | F19: Tank #85: (Without Xp3) | J19: Tank #85
A20: Odometer - | C20: Fuel Gal.- | E20: =IF(B20="","",SUM((B20-B18)/(D20))) | F20: Odometer- | H20: Fuel Gal.- | J20: =IF(G20="","",ROUND(SUM((G20-G18)/(I20)),2))
A21: Tank #70: (Without Xp3) | E21: Tank #70 | F21: Tank #86: (Without Xp3) | J21: Tank #86
A22: Odometer - | C22: Fuel Gal. - | E22: =IF(B22="","",SUM((B22-B20)/(D22))) | F22: Odometer- | H22: Fuel Gal.- | J22: =IF(G22="","",ROUND(SUM((G22-G20)/(I22)),2))
A23: Tank #71: (Without Xp3) | E23: Tank #71 | F23: Tank #87: (Without Xp3) | J23: Tank #87
A24: Odometer - | C24: Fuel Gal. - | E24: =IF(B24="","",SUM((B24-B22)/(D24))) | F24: Odometer- | H24: Fuel Gal.- | J24: =IF(G24="","",ROUND(SUM((G24-G22)/(I24)),2))
A25: Tank #72: (Without Xp3) | E25: Tank #72 | F25: Tank #88: (Without Xp3) | J25: Tank #88
A26: Odometer - | C26: Fuel Gal. - | E26: =IF(B26="","",SUM((B26-B24)/(D26))) | F26: Odometer- | H26: Fuel Gal.- | J26: =IF(G26="","",ROUND(SUM((G26-G24)/(I26)),2))
A27: Tank #73: (Without Xp3) | E27: Tank #73 | F27: Tank #89: (Without Xp3) | J27: Tank #89
A28: Odometer - | C28: Fuel Gal. - | E28: =IF(B28="","",SUM((B28-B26)/(D28))) | F28: Odometer- | H28: Fuel Gal.- | J28: =IF(G28="","",ROUND(SUM((G28-G26)/(I28)),2))
A29: Tank #74: (Without Xp3) | E29: Tank #74 | F29: Tank #90: (Without Xp3) | J29: Tank #90
A30: Odometer - | C30: Fuel Gal.- | E30: =IF(B30="","",SUM((B30-B28)/(D30))) | F30: Odometer- | H30: Fuel Gal.- | J30: =IF(G30="","",ROUND(SUM((G30-G28)/(I30)),2))
A31: Tank #75: (Without Xp3) | E31: Tank #75 | F31: Tank #91: (Without Xp3) | J31: Tank #91
A32: Odometer - | C32: Fuel Gal. - | E32: =IF(B32="","",SUM((B32-B30)/(D32))) | F32: Odometer- | H32: Fuel Gal.- | J32: =IF(G32="","",ROUND(SUM((G32-G30)/(I32)),2))
A33: Tank #76: (Without Xp3) | E33: Tank #76 | F33: Tank #92: (Without Xp3) | J33: Tank #92
A34: Odometer - | C34: Fuel Gal. - | E34: =IF(B34="","",SUM((B34-B32)/(D34))) | F34: Odometer- | H34: Fuel Gal.- | J34: =IF(G34="","",ROUND(SUM((G34-G32)/(I34)),2))
A35: Tank #77: (Without Xp3) | E35: Tank #77 | F35: Tank #93: (Without Xp3) | J35: Tank #93
A36: Odometer - | C36: Fuel Gal. - | E36: =IF(B36="","",SUM((B36-B34)/(D36))) | F36: Odometer- | H36: Fuel Gal.- | J36: =IF(G36="","",ROUND(SUM((G36-G34)/(I36)),2))
A37: Tank #78: (Without Xp3) | E37: Tank #78 | F37: Tank #94: (Without Xp3) | J37: Tank #94
A38: Odometer - | C38: Fuel Gal. - | E38: =IF(B38="","",SUM((B38-B36)/(D38))) | F38: Odometer- | H38: Fuel Gal.- | J38: =IF(G38="","",ROUND(SUM((G38-G36)/(I38)),2))
A39: Tank #79: (Without Xp3) | E39: Tank #79 | F39: Tank #95: (Final Without Xp3) | J39: Tank #95
A40: Odometer - | C40: Fuel Gal.- | E40: =IF(B40="","",SUM((B40-B38)/(D40))) | F40: Odometer- | H40: Fuel Gal.- | J40: =IF(G40="","",ROUND(SUM((G40-G38)/(I40)),2))
F41: Average MPG Tanks #64 Thru #95: | J41: =IF(ISERROR(AVERAGE(E10:E40,J10:J40)),"n/a",AVERAGE(E10:E40,J10:J40)) -> n/a
F42: Summary of MPG Results: | J42: -------------------
F43: Average MPG Tanks #1 Thru #11: | J43: =IF(ISERROR(ROUND(('NTFL-3A'!J47),2)),"n/a",ROUND(('NTFL-3A'!J47),2)) -> n/a | K43: =ROUND(J43,2) -> #VALUE!
B44: Place Your Company Logo Or Fuel Direct Logo Here | F44: Average MPG Tanks #12 Thru #31: | J44: =IF(ISERROR(ROUND(('NTFL-3A'!J48),2)),"n/a",ROUND(('NTFL-3A'!J48),2)) -> n/a
F45: Average MPG Tanks #32 Thru #63: | J45: =IF(ISERROR(ROUND('NTFL-3B'!J41,2)),"n/a",ROUND('NTFL-3B'!J41,2)) -> n/a
F46: Average MPG Tanks #64 Thru #95: | J46: =IF(ISERROR(ROUND(J41,2)),"n/a",ROUND(J41,2)) -> n/a
F47: Average MPG Tanks #12 Thru #95: | J47: =IF(ISERROR(SUM((J44+J45+J46)/(3))),"n/a",SUM((J44+J45+J46)/(3))) -> n/a
F48: Total MPG Incr./Decr. Tanks #1-#11 Compared To Tanks #12-#95: | J48: =IF(ISERROR((SUM(J47-J43))),"n/a",SUM(J47-J43)) -> n/a | K48: =ROUND(J48,2) -> #VALUE!
F49: Percentage Of Incr./Decr. In MPG Tanks #1-#11 To Tanks #12-#95: | J49: =IF(ISERROR(ROUND((K48/K43),2)),"n/a",ROUND((K48/K43),2)) -> n/a
J51: NTFL-3C | K51: TFL-1A
G52: =IF(ISBLANK(G40),J40,"")

Sheet Post-Trial Comp Calculator
B3: Post-Trial MPG Comparison Calculator
A4: XYZ Company Name | E4: Date Prepared:
A5: Non-Trial Vehicles Tanks 1-11 Without Xp3 | B5: ----------------------------------- | C5: --------------------------------- | E5: Trial Vehicles Tanks 1-11 Without Xp3 | F5: ----------------------- | G5: --------------------------------
A6: Non-Trial Vehicles MPG Without Xp3 | B6: Average MPG | C6: --------------------------------- | E6: Trial Vehicles MPG Without Xp3: | F6: Average MPG | G6: --------------------------------
A7: ='NTFL-1A'!F3 -> Vehicle ID/Number: | B7: ='NTFL-1C'!J43 -> n/a | C7: --------------------------------- | E7: ='TFL-1A'!F3 -> Vehicle ID/Number: | F7: ='TFL-1C'!J43 -> n/a | G7: --------------------------------
A8: ='NTFL-2A'!F3 -> Vehicle ID/Number: | B8: ='NTFL-2C'!J43 -> n/a | C8: --------------------------------- | E8: ='TFL-2A'!F3 -> Vehicle ID/Number: | F8: ='TFL-2C'!J43 -> n/a | G8: --------------------------------
A9: ='NTFL-3A'!F3 -> Vehicle ID/Number: | B9: ='NTFL-3C'!J43 -> n/a | C9: --------------------------------- | E9: ='TFL-3A'!F3 -> Vehicle ID/Number: | F9: ='TFL-3C'!J43 -> n/a | G9: --------------------------------
A10: Average MPG of Non-Trial Vehicles Without Xp3 (Tanks 1-11) | B10: =IF(ISERROR(AVERAGE(B7:B9)),"n/a",AVERAGE(B7:B9)) -> n/a | C10: --------------------------------- | E10: Average MPG of Trial Vehicles Without Xp3 (Tanks 1-11) | F10: =IF(ISERROR(AVERAGE(F7:F9)),"n/a",AVERAGE(F7:F9)) -> n/a | G10: --------------------------------
A13: Non-Trial Vehicles Tanks 12-95 Without Xp3 | B13: ----------------------------------- | C13: --------------------------------- | E13: Trial Vehicles Tanks 12-95 With Xp3 | F13: ----------------------- | G13: --------------------------------
A14: Non-Trial Vehicles MPG Without Xp3 | B14: Average MPG | C14: MPG Incr./Decr.Tanks 1-11 | E14: Trial Vehicles MPG With Xp3: | F14: Average MPG | G14: MPG Incr./Decr. Tanks 1-11
A15: =A7 -> Vehicle ID/Number: | B15: ='NTFL-1C'!J47 -> n/a | C15: =IF(ISERROR((B15-B7)),"n/a",B15-B7) -> n/a | E15: =E7 -> Vehicle ID/Number: | F15: ='TFL-1C'!J47 -> n/a | G15: =IF(ISERROR((F15-F7)),"n/a",F15-F7) -> n/a
A16: =A8 -> Vehicle ID/Number: | B16: ='NTFL-2C'!J47 -> n/a | C16: =IF(ISERROR((B16-B8)),"n/a",B16-B8) -> n/a | E16: =E8 -> Vehicle ID/Number: | F16: ='TFL-2C'!J47 -> n/a | G16: =IF(ISERROR((F16-F8)),"n/a",F16-F8) -> n/a
A17: =A9 -> Vehicle ID/Number: | B17: ='NTFL-3C'!J47 -> n/a | C17: =IF(ISERROR((B17-B9)),"n/a",B17-B9) -> n/a | E17: =E9 -> Vehicle ID/Number: | F17: ='TFL-3C'!J47 -> n/a | G17: =IF(ISERROR((F17-F9)),"n/a",F17-F9) -> n/a
A18: Average MPG of Non-Trial Vehicles With Xp3 (Tanks 12-95) | B18: =IF(ISERROR(AVERAGE(B15:B17)),"n/a",AVERAGE(B15:B17)) -> n/a | C18: --------------------------------- | E18: Average MPG of Trial Vehicles With Xp3 (Tanks 12-95) | F18: =IF(ISERROR(AVERAGE(F15:F17)),"n/a",AVERAGE(F15:F17)) -> n/a | G18: --------------------------------
A19: Average % Incr./Decr. From (Tanks 1-11 In Non-Trial Vehicles) | B19: =IF(ISERROR(((ROUND(B18,2)-ROUND(B10,2))/ROUND(B10,2))),0,(ROUND(B18,2)-ROUND(B10,2))/ROUND(B10,2)) -> 0 | C19: --------------------------------- | E19: Average % Incr./Decr. From (Tanks 1-11 Trial Veh.) | F19: =IF(ISERROR(((ROUND(F18,2)-ROUND(F10,2))/ROUND(F10,2))),0,(ROUND(F18,2)-ROUND(F10,2))/ROUND(F10,2)) -> 0 | G19: --------------------------------
A22: Xp3 Trial Savings Summary | B22: ------------------------- | E22: Projected Fuel Savings Analysis | F22: -------------------------
A23: Average MPG Of Trial Vehicles Without Xp3 (Tanks 1-11) | B23: =IF(ISERROR(ROUND(F10,2)),"n/a",ROUND(F10,2)) -> n/a | E23: Percentage Of Increase In MPG With Xp3 | F23: =B28 -> n/a
A24: Average MPG Of Trial Vehicles With Xp3 (Tanks 12-95) | B24: =IF(ISERROR(F18),"n/a",F18) -> n/a | E24: Monthly Fleet Fuel Usage (Prior To Using Xp3) | F24: 220000
A25: Estimated MPG On (Tanks 12-95) If Xp3 Had Not Been Used | B25: =IF(ISERROR(ROUND(SUM((F10)+(F10*B19)),2)),"n/a",ROUND(SUM((F10)+(F10*B19)),2)) -> n/a | E25: Annual Gallons Of Fuel Used By Fleet (Prior To Using Xp3) | F25: =SUM(F24*12) -> 2640000
A26: Formula:(Purple Cell) +/- (Purple Cell * Red Cell) | B26: --------------------------- | E26: Gallons Of Fuel Saved By Using Xp3 | F26: =IF(ISERROR(F23*F25),"n/a",F23*F25) -> n/a
A27: MPG Increase In (Tanks 12-95) By Using Xp3 | B27: =IF(ISERROR(ROUND(SUM(B24-B25),2)),"n/a",ROUND(SUM(B24-B25),2)) -> n/a | E27: Original Cost Of Fuel Per Gallon (Prior To Using Xp3) | F27: 3.79
A28: Percentage Of Increase In MPG By Using Xp3 | B28: =IF(ISERROR(ROUND((B27/B23),4)),"n/a",ROUND((B27/B23),4)) -> n/a | E28: Cost To Treat 1 Gallon Of Fuel With Xp3 | F28: 0.07
A29: Formula: (Green Cell Divided By Purple Cell) | B29: --------------------------- | E29: Total Cost Of Fuel Per Gallon | F29: =(F27+F28) -> 3.86
E30: Total Annual Gross Fleet Fuel Savings | F30: =IF(ISERROR(SUM(F26*F27)),"n/a",(SUM(F26*F27))) -> n/a
E31: Total Annual Cost Of Xp3 | F31: =IF(ISERROR(((F25-F26)*((F28)))),"n/a",(F25-F26)*((F28))) -> n/a
E32: Net Annual Fleet Savings | F32: =IF(ISERROR((F30-F31)),"n/a",F30-F31) -> n/a
E33: Proj. Annual Fleet Savings: | F33: =IF(ISERROR((F32)),"n/a",(F32)) -> n/a
E34: Proj. 5 Year Cummulative Net Savings: | F34: =IF(ISERROR(SUM(F33*5)),"n/a",(SUM(F33*5))) -> n/a
