Workbook

Sheet TFL-PG 1
C1: Company Name
C2: Driver Name/ID: | D2: Operator or Driver Name
C3: Vehicle ID/Number: | D3: Vehicle or equipment info
C4: Consultant Name: | D4: Name
C5: Contact Number: | D5: Phone
C6: Diesel Fuel
B7: *When fueling, please fill each tank completely*
A8: Tanks #1 Thru #10 Without Xp3 | C8: Xp3 Mix Ratio | D8: Tanks #11 Thru #27 Treated With Xp3
A9: START - Fill Tank Completely | B9: Date of Fill - | C9: 30 Gal = 1 oz | D9: Tank #14 - Continue Using Xp3: | E9: Date of Fill -
A10: Odometer- | B10: Gallons Filled - | C10: 60 Gal = 2 oz | D10: Odometer- | E10: Gallons Filled -
A11: Tank #1: Without Xp3 | B11: Date of Fill - | C11: 90 Gal = 3 oz | D11: Tank #15 - Continue Using Xp3: | E11: Date Of Fill -
A12: Odometer - | B12: Gallons Filled - | C12: 120 Gal = 4 oz | D12: Odometer- | E12: Gallons Filled -
A13: Tank #2: Without Xp3 | B13: Date of Fill - | C13: 150 Gal = 5 oz | D13: Tank #16 - Continue Using Xp3: | E13: Date Of Fill -
A14: Odometer - | B14: Gallons Filled - | C14: 180 Gal = 6 oz | D14: Odometer- | E14: Gallons Filled -
A15: Tank #3: Without Xp3 | B15: Date of Fill - | C15: 210 Gal = 7 oz | D15: Tank #17 - Continue Using Xp3- | E15: Date Of Fill -
A16: Odometer - | B16: Gallons Filled - | C16: 240 Gal = 8 oz | D16: Odometer- | E16: Gallons Filled -
A17: Tank #4: Without Xp3 | B17: Date of Fill - | C17: 270 Gal = 9 oz | D17: Tank #18 - Continue Using Xp3: | E17: Date Of Fill -
A18: Odomter - | B18: Gallons Filled - | C18: 300 Gal = 10 oz | D18: Odometer- | E18: Gallons Filled -
A19: Tank #5: Without Xp3 | B19: Date of Fill - | D19: Tank #19 - Continue Using Xp3: | E19: Date Of Fill -
A20: Odometer - | B20: Gallons Filled - | D20: Odometer- | E20: Gallons Filled -
A21: Tank #6: Without Xp3 | B21: Date of Fill - | D21: Tank #20 - Continue Using Xp3: | E21: Date Of Fill -
A22: Odometer - | B22: Gallons Filled - | D22: Odometer- | E22: Gallons Filled -
A23: Tank #7: Without Xp3 | B23: Date of Fill - | D23: Tank #21 - Continue Using Xp3: | E23: Date Of Fill -
A24: Odometer - | B24: Gallons Filled - | D24: Odometer- | E24: Gallons Filled -
A25: Tank #8: Without Xp3 | B25: Date of Fill - | D25: Tank #22 - Continue Using Xp3: | E25: Date Of Fill -
A26: Odometer - | B26: Gallons Filled - | D26: Odometer- | E26: Gallons Filled -
A27: Tank #9: Without Xp3 | B27: Date of Fill - | D27: Tank #23 - Continue Using Xp3 | E27: Date Of Fill -
A28: Odometer - | B28: Gallons Filled - | D28: Odometer- | E28: Gallons Filled -
A29: Tank #10: Without Xp3 | B29: Date of Fill - | D29: Tank #24 - Continue Using Xp3 | E29: Date Of Fill -
A30: Odometer - | B30: Gallons Filled - | D30: Odometer- | E30: Gallons Filled -
A31: Tank #11: Start Using Xp3 This Tank | B31: Date of Fill - | C31: Oil Change Info: | D31: Tank #25 - Continue Using Xp3: | E31: Date Of Fill -
A32: Odometer - | B32: Gallons Filled - | C32: Date: | D32: Odometer- | E32: Gallons Filled -
A33: Tank #12: Continue Using Xp3 | B33: Date of Fill - | C33: Miles: | D33: Tank #26 - Continue Using Xp3 | E33: Date Of Fill -
A34: Odometer - | B34: Gallons Filled - | C34: Oil Change Info: | D34: Odometer- | E34: Gallons Filled -
A35: Tank #13: Continue Using Xp3 | B35: Date of Fill - | C35: Date: | D35: Tank #27 - Continue Using Xp3 | E35: Date Of Fill -
A36: Odometer - | B36: Gallons Filled - | C36: Miles: | D36: Odometer- | E36: Gallons Filled -
A37: Proceed To Tank #14 (Highlighted In Yellow Above) | D37: Please Proceed To The Other Side Of This Page To Complete Tanks #28-#56

Sheet TFL-PG 2
C1: ='TFL-PG 1'!C1 -> Company Name
C2: ='TFL-PG 1'!$C$2 -> Driver Name/ID: | D2: ='TFL-PG 1'!D2 -> Operator or Driver Name
C3: ='TFL-PG 1'!$C$3 -> Vehicle ID/Number: | D3: ='TFL-PG 1'!D3 -> Vehicle or equipment info
C4: ='TFL-PG 1'!$C$4 -> Consultant Name: | D4: ='TFL-PG 1'!D4 -> Name
C5: ='TFL-PG 1'!$C$5 -> Contact Number: | D5: ='TFL-PG 1'!D5 -> Phone
C6: Diesel Fuel
B7: *When fueling, please fill each tank completely*
A8: Tanks #28 Thru #41 Treated With Xp3 | C8: Xp3 Mix Ratio | D8: Tanks #42 Thru #55 Treated With Xp3
A9: Tank #28 - Continue Using Xp3: | B9: Date of Fill - | C9: 30 Gal = 1 oz | D9: Tank #42 - Continue Using Xp3: | E9: Date of Fill -
A10: Odometer- | B10: Gallons Filled - | C10: 60 Gal = 2 oz | D10: Odometer- | E10: Gallons Filled -
A11: Tank #29 - Continue Using Xp3: | B11: Date Of Fill - | C11: 90 Gal = 3 oz | D11: Tank #43 - Continue Using Xp3: | E11: Date Of Fill -
A12: Odometer- | B12: Gallons Filled - | C12: 120 Gal = 4 oz | D12: Odometer- | E12: Gallons Filled -
A13: Tank #30 - Continue Using Xp3: | B13: Date Of Fill - | C13: 150 Gal = 5 oz | D13: Tank #44 - Continue Using Xp3- | E13: Date Of Fill -
A14: Odometer- | B14: Gallons Filled - | C14: 180 Gal = 6 oz | D14: Odometer- | E14: Gallons Filled -
A15: Tank #31 - Continue Using Xp3- | B15: Date Of Fill - | C15: 210 Gal = 7 oz | D15: Tank #45 - Continue Using Xp3: | E15: Date Of Fill -
A16: Odometer- | B16: Gallons Filled - | C16: 240 Gal = 8 oz | D16: Odometer- | E16: Gallons Filled -
A17: Tank #32 - Continue Using Xp3: | B17: Date Of Fill - | C17: 270 Gal = 9 oz | D17: Tank #46 - Continue Using Xp3: | E17: Date Of Fill -
A18: Odometer- | B18: Gallons Filled - | C18: 300 Gal = 10 oz | D18: Odometer- | E18: Gallons Filled -
A19: Tank #33 - Continue Using Xp3: | B19: Date Of Fill - | D19: Tank #47 - Continue Using Xp3: | E19: Date Of Fill -
A20: Odometer- | B20: Gallons Filled - | D20: Odometer- | E20: Gallons Filled -
A21: Tank #34 - Continue Using Xp3: | B21: Date Of Fill - | D21: Tank #48 - Continue Using Xp3: | E21: Date Of Fill -
A22: Odometer- | B22: Gallons Filled - | D22: Odometer- | E22: Gallons Filled -
A23: Tank #35 - Continue Using Xp3: | B23: Date Of Fill - | D23: Tank #49 - Continue Using Xp3: | E23: Date Of Fill -
A24: Odometer- | B24: Gallons Filled - | D24: Odometer- | E24: Gallons Filled -
A25: Tank #36 - Continue Using Xp3: | B25: Date Of Fill - | D25: Tank #50 - Continue Using Xp3 | E25: Date Of Fill -
A26: Odometer- | B26: Gallons Filled - | D26: Odometer- | E26: Gallons Filled -
A27: Tank #37 - Continue Using Xp3 | B27: Date Of Fill - | D27: Tank #51 - Continue Using Xp3 | E27: Date Of Fill -
A28: Odometer- | B28: Gallons Filled - | D28: Odometer- | E28: Gallons Filled -
A29: Tank #38 - Continue Using Xp3: | B29: Date Of Fill - | D29: Tank #52 - Continue Using Xp3: | E29: Date Of Fill -
A30: Odometer- | B30: Gallons Filled - | D30: Odometer- | E30: Gallons Filled -
A31: Tank #39 - Continue Using Xp3: | B31: Date Of Fill - | C31: Oil Change Info: | D31: Tank #53 - Continue Using Xp3: | E31: Date Of Fill -
A32: Odometer- | B32: Gallons Filled - | C32: Date: | D32: Odometer- | E32: Gallons Filled -
A33: Tank #40 - Continue Using Xp3: | B33: Date Of Fill - | C33: Miles: | D33: Tank #54 - Continue Using Xp3 | E33: Date Of Fill -
A34: Odometer- | B34: Gallons Filled - | C34: Oil Change Info: | D34: Odometer- | E34: Gallons Filled -
A35: Tank #41 - Continue Using Xp3 | B35: Date Of Fill - | C35: Date: | D35: Tank #55 - Continue Using Xp3 | E35: Date Of Fill -
A36: Odometer- | B36: Gallons Filled - | C36: Miles: | D36: Odometer- | E36: Gallons Filled -
A37: Please Proceed To Tank #42 (Highlighted In Yellow Above) | D37: Please Proceed To The Next Page To Complete Tanks #56-#60

Sheet TFL-Pg 3
C1: ='TFL-PG 1'!C1 -> Company Name
C2: ='TFL-PG 1'!$C$2 -> Driver Name/ID: | D2: ='TFL-PG 1'!D2 -> Operator or Driver Name
C3: ='TFL-PG 1'!$C$3 -> Vehicle ID/Number: | D3: ='TFL-PG 1'!D3 -> Vehicle or equipment info
C4: ='TFL-PG 1'!$C$4 -> Consultant Name: | D4: ='TFL-PG 1'!D4 -> Name
C5: ='TFL-PG 1'!$C$5 -> Contact Number: | D5: ='TFL-PG 1'!D5 -> Phone
C6: Diesel Fuel
B7: *When fueling, please fill each tank completely*
A8: Tanks #56 Thru #69 Treated With Xp3 | C8: Xp3 Mix Ratio | D8: Tanks #70 Thru #83 Treated With Xp3
A9: Tank #56 - Continue Using Xp3: | B9: Date of Fill - | C9: 30 Gal = 1 oz | D9: Tank #70 - Continue Using Xp3: | E9: Date of Fill -
A10: Odometer- | B10: Gallons Filled - | C10: 60 Gal = 2 oz | D10: Odometer- | E10: Gallons Filled -
A11: Tank #57 - Continue Using Xp3: | B11: Date Of Fill - | C11: 90 Gal = 3 oz | D11: Tank #71 - Continue Using Xp3: | E11: Date Of Fill -
A12: Odometer- | B12: Gallons Filled - | C12: 120 Gal = 4 oz | D12: Odometer- | E12: Gallons Filled -
A13: Tank #58 - Continue Using Xp3: | B13: Date Of Fill - | C13: 150 Gal = 5 oz | D13: Tank #72 - Continue Using Xp3- | E13: Date Of Fill -
A14: Odometer- | B14: Gallons Filled - | C14: 180 Gal = 6 oz | D14: Odometer- | E14: Gallons Filled -
A15: Tank #59 - Continue Using Xp3- | B15: Date Of Fill - | C15: 210 Gal = 7 oz | D15: Tank #73 - Continue Using Xp3: | E15: Date Of Fill -
A16: Odometer- | B16: Gallons Filled - | C16: 240 Gal = 8 oz | D16: Odometer- | E16: Gallons Filled -
A17: Tank #60 - Continue Using Xp3: | B17: Date Of Fill - | C17: 270 Gal = 9 oz | D17: Tank #74 - Continue Using Xp3: | E17: Date Of Fill -
A18: Odometer- | B18: Gallons Filled - | C18: 300 Gal = 10 oz | D18: Odometer- | E18: Gallons Filled -
A19: Tank #61 - Continue Using Xp3: | B19: Date Of Fill - | D19: Tank #75 - Continue Using Xp3: | E19: Date Of Fill -
A20: Odometer- | B20: Gallons Filled - | D20: Odometer- | E20: Gallons Filled -
A21: Tank #62 - Continue Using Xp3: | B21: Date Of Fill - | D21: Tank #76 - Continue Using Xp3: | E21: Date Of Fill -
A22: Odometer- | B22: Gallons Filled - | D22: Odometer- | E22: Gallons Filled -
A23: Tank #63 - Continue Using Xp3: | B23: Date Of Fill - | D23: Tank #77 - Continue Using Xp3: | E23: Date Of Fill -
A24: Odometer- | B24: Gallons Filled - | D24: Odometer- | E24: Gallons Filled -
A25: Tank #64 - Continue Using Xp3: | B25: Date Of Fill - | D25: Tank #78 - Continue Using Xp3 | E25: Date Of Fill -
A26: Odometer- | B26: Gallons Filled - | D26: Odometer- | E26: Gallons Filled -
A27: Tank #65 - Continue Using Xp3 | B27: Date Of Fill - | D27: Tank #79 - Continue Using Xp3 | E27: Date Of Fill -
A28: Odometer- | B28: Gallons Filled - | D28: Odometer- | E28: Gallons Filled -
A29: Tank #66 - Continue Using Xp3: | B29: Date Of Fill - | D29: Tank #80 - Continue Using Xp3: | E29: Date Of Fill -
A30: Odometer- | B30: Gallons Filled - | D30: Odometer- | E30: Gallons Filled -
A31: Tank #67 - Continue Using Xp3: | B31: Date Of Fill - | C31: Oil Change Info: | D31: Tank #81 - Continue Using Xp3: | E31: Date Of Fill -
A32: Odometer- | B32: Gallons Filled - | C32: Date: | D32: Odometer- | E32: Gallons Filled -
A33: Tank #68 - Continue Using Xp3: | B33: Date Of Fill - | C33: Miles: | D33: Tank #82 - Continue Using Xp3 | E33: Date Of Fill -
A34: Odometer- | B34: Gallons Filled - | C34: Oil Change Info: | D34: Odometer- | E34: Gallons Filled -
A35: Tank #69 - Continue Using Xp3 | B35: Date Of Fill - | C35: Date: | D35: Tank #83 - Continue Using Xp3 | E35: Date Of Fill -
A36: Odometer- | B36: Gallons Filled - | C36: Miles: | D36: Odometer- | E36: Gallons Filled -
A37: Please Proceed To Tank #70 (Highlighted In Yellow Above) | D37: Please Proceed To The Back Of This Page To Complete Tanks #84 To #94

Sheet TFL-Pg 4
C1: ='TFL-PG 1'!C1 -> Company Name
C2: ='TFL-PG 1'!$C$2 -> Driver Name/ID: | D2: ='TFL-PG 1'!D2 -> Operator or Driver Name
C3: ='TFL-PG 1'!$C$3 -> Vehicle ID/Number: | D3: ='TFL-PG 1'!D3 -> Vehicle or equipment info
C4: ='TFL-PG 1'!$C$4 -> Consultant Name: | D4: ='TFL-PG 1'!D4 -> Name
C5: ='TFL-PG 1'!$C$5 -> Contact Number: | D5: ='TFL-PG 1'!D5 -> Phone
C6: Diesel Fuel
B7: *When fueling, please fill each tank completely*
A8: Tanks #84 Thru #94 Treated With Xp3 | C8: Xp3 Mix Ratio | D8: Please Complete The Form Below Following Your Final Tank
A9: Tank #84 - Continue Using Xp3: | B9: Date of Fill - | C9: 30 Gal = 1 oz
A10: Odometer- | B10: Gallons Filled - | C10: 60 Gal = 2 oz | D10: Driver "Trial Completion" Verification Form
A11: Tank #85 - Continue Using Xp3: | B11: Date Of Fill - | C11: 90 Gal = 3 oz
A12: Odometer- | B12: Gallons Filled - | C12: 120 Gal = 4 oz | D12: I, ___ , am verifying
A13: Tank #86 - Continue Using Xp3: | B13: Date Of Fill - | C13: 150 Gal = 5 oz | D13: that I completed this trial of Xp3 completely and accurately. I am also
A14: Odometer- | B14: Gallons Filled - | C14: 180 Gal = 6 oz | D14: verifying that the information provided In this fuel log is 100% accurate.
A15: Tank #87 - Continue Using Xp3- | B15: Date Of Fill - | C15: 210 Gal = 7 oz
A16: Odometer- | B16: Gallons Filled - | C16: 240 Gal = 8 oz
A17: Tank #88 - Continue Using Xp3: | B17: Date Of Fill - | C17: 270 Gal = 9 oz | D17: Driver Signature: ______________________________________________________
A18: Odometer- | B18: Gallons Filled - | C18: 300 Gal = 10 oz
A19: Tank #89 - Continue Using Xp3: | B19: Date Of Fill -
A20: Odometer- | B20: Gallons Filled - | D20: Driver Printed Name: __________________________________________________
A21: Tank #90 - Continue Using Xp3: | B21: Date Of Fill -
A22: Odometer- | B22: Gallons Filled -
A23: Tank #91 - Continue Using Xp3: | B23: Date Of Fill - | D23: Date: ________________________________________________________________
A24: Odometer- | B24: Gallons Filled -
A25: Tank #92 - Continue Using Xp3: | B25: Date Of Fill -
A26: Odometer- | B26: Gallons Filled - | D26: Thank You For Your Help & Cooperation
A27: Tank #93 - Continue Using Xp3 | B27: Date Of Fill -
A28: Odometer- | B28: Gallons Filled - | C28: Oil Change Info: | D28: During This Important Trial With Xp3!
A29: Tank #94 - Final Tank Using Xp3: | B29: Date Of Fill - | C29: Date:
A30: Odometer- | B30: Gallons Filled - | C30: Miles:
A31: Please Review & Sign The Information On The Top Right Side Of This Form | C31: ----------------- | D31: Please Return The Signed & Completed Fuel Log Following Final Tank - THANK YOU!

Sheet NTFL-PG 1
C1: =('TFL-PG 1'!C1) -> Company Name
C2: Driver Name/ID: | D2: Driver Name
C3: Vehicle ID/Number: | D3: 1234
C4: ='TFL-PG 1'!C4 -> Consultant Name: | D4: ='TFL-PG 1'!D4 -> Name
C5: ='TFL-PG 1'!C5 -> Contact Number: | D5: ='TFL-PG 1'!D5 -> Phone
C6: Diesel Fuel
B7: *When fueling, please fill each tank completely*
A8: Tanks #1 Thru #13 Without Xp3 | C8: ------------------ | D8: Tanks #14 Thru #27 Without Xp3
A9: START - Fill Tank Completely | B9: Date of Fill - | C9: ------------------ | D9: Tank #14: Without Xp3 | E9: Date of Fill -
A10: Odometer- | B10: Gallons Filled - | C10: ------------------ | D10: Odometer- | E10: Gallons Filled -
A11: Tank #1: Without Xp3 | B11: Date of Fill - | C11: ------------------ | D11: Tank #15: Without Xp3 | E11: Date Of Fill -
A12: Odometer - | B12: Gallons Filled - | C12: ------------------ | D12: Odometer- | E12: Gallons Filled -
A13: Tank #2: Without Xp3 | B13: Date of Fill - | C13: ------------------ | D13: Tank #16: Without Xp3 | E13: Date Of Fill -
A14: Odometer - | B14: Gallons Filled - | C14: ------------------ | D14: Odometer- | E14: Gallons Filled -
A15: Tank #3: Without Xp3 | B15: Date of Fill - | C15: ------------------ | D15: Tank #17: Without Xp3 | E15: Date Of Fill -
A16: Odometer - | B16: Gallons Filled - | C16: ------------------ | D16: Odometer- | E16: Gallons Filled -
A17: Tank #4: Without Xp3 | B17: Date of Fill - | C17: ------------------ | D17: Tank #18: Without Xp3 | E17: Date Of Fill -
A18: Odomter - | B18: Gallons Filled - | C18: ------------------ | D18: Odometer- | E18: Gallons Filled -
A19: Tank #5: Without Xp3 | B19: Date of Fill - | C19: ------------------ | D19: Tank #19: Without Xp3 | E19: Date Of Fill -
A20: Odometer - | B20: Gallons Filled - | C20: ------------------ | D20: Odometer- | E20: Gallons Filled -
... A36: Odometer - | B36: Gallons Filled - | C36: ------------------ | D36: Odometer- | E36: Gallons Filled -
A37: Proceed To Tank #14 (Highlighted In Yellow Above) | C37: ------------------ | D37: Please Proceed To The Other Side Of This Page To Complete Tanks #28-#56

Sheet NTFL-PG 2
C1: ='TFL-PG 1'!C1 -> Company Name
C2: ='NTFL-PG 1'!C2 -> Driver Name/ID: | D2: ='NTFL-PG 1'!D2 -> Driver Name
C3: ='NTFL-PG 1'!C3 -> Vehicle ID/Number: | D3: ='NTFL-PG 1'!D3 -> 1234
C4: ='NTFL-PG 1'!C4 -> Consultant Name: | D4: ='NTFL-PG 1'!D4 -> Name
C5: ='NTFL-PG 1'!C5 -> Contact Number: | D5: ='NTFL-PG 1'!D5 -> Phone
C6: Diesel Fuel
B7: *When fueling, please fill each tank completely*
A8: Tanks #28 Thru #41 Without Xp3 | C8: ------------------ | D8: Tanks #42 Thru #55 Without Xp3
A9: Tank #28: Without Xp3 | B9: Date of Fill - | C9: ------------------ | D9: Tank #42: Without Xp3 | E9: Date of Fill -
A10: Odometer- | B10: Gallons Filled - | C10: ------------------ | D10: Odometer- | E10: Gallons Filled -
A11: Tank #29: Without Xp3 | B11: Date Of Fill - | C11: ------------------ | D11: Tank #43: Without Xp3 | E11: Date Of Fill -
A12: Odometer- | B12: Gallons Filled - | C12: ------------------ | D12: Odometer- | E12: Gallons Filled -
A13: Tank #30: Without Xp3 | B13: Date Of Fill - | C13: ------------------ | D13: Tank #44: Without Xp3 | E13: Date Of Fill -
A14: Odometer- | B14: Gallons Filled - | C14: ------------------ | D14: Odometer- | E14: Gallons Filled -
A15: Tank #31: Without Xp3 | B15: Date Of Fill - | C15: ------------------ | D15: Tank #45: Without Xp3 | E15: Date Of Fill -
A16: Odometer- | B16: Gallons Filled - | C16: ------------------ | D16: Odometer- | E16: Gallons Filled -
A17: Tank #32: Without Xp3 | B17: Date Of Fill - | C17: ------------------ | D17: Tank #46: Without Xp3 | E17: Date Of Fill -
A18: Odometer- | B18: Gallons Filled - | C18: ------------------ | D18: Odometer- | E18: Gallons Filled -
A19: Tank #33: Without Xp3 | B19: Date Of Fill - | C19: ------------------ | D19: Tank #47: Without Xp3 | E19: Date Of Fill -
A20: Odometer- | B20: Gallons Filled - | C20: ------------------ | D20: Odometer- | E20: Gallons Filled -
... A36: Odometer- | B36: Gallons Filled - | C36: ------------------ | D36: Odometer- | E36: Gallons Filled -
A37: Please Proceed To Tank #42 (Highlighted In Yellow Above) | C37: ------------------ | D37: Please Proceed To The Next Page To Complete Tanks #55-#83

Sheet NTFL-Pg 3
C1: ='TFL-PG 1'!C1 -> Company Name
C2: ='NTFL-PG 1'!C2 -> Driver Name/ID: | D2: ='NTFL-PG 1'!D2 -> Driver Name
C3: ='NTFL-PG 1'!C3 -> Vehicle ID/Number: | D3: ='NTFL-PG 1'!D3 -> 1234
C4: ='NTFL-PG 1'!C4 -> Consultant Name: | D4: ='NTFL-PG 1'!D4 -> Name
C5: ='NTFL-PG 1'!C5 -> Contact Number: | D5: ='NTFL-PG 1'!D5 -> Phone
C6: Diesel Fuel
B7: *When fueling, please fill each tank completely*
A8: Tanks #56 Thru #69 Without Xp3 | C8: ------------------ | D8: Tanks #70 Thru #83 Without Xp3
A9: Tank #56: Without Xp3 | B9: Date of Fill - | C9: ------------------ | D9: Tank #70: Without Xp3 | E9: Date of Fill -
A10: Odometer- | B10: Gallons Filled - | C10: ------------------ | D10: Odometer- | E10: Gallons Filled -
A11: Tank #57: Without Xp3 | B11: Date Of Fill - | C11: ------------------ | D11: Tank #71: Without Xp3 | E11: Date Of Fill -
A12: Odometer- | B12: Gallons Filled - | C12: ------------------ | D12: Odometer- | E12: Gallons Filled -
A13: Tank #58: Without Xp3 | B13: Date Of Fill - | C13: ------------------ | D13: Tank #72: Without Xp3 | E13: Date Of Fill -
A14: Odometer- | B14: Gallons Filled - | C14: ------------------ | D14: Odometer- | E14: Gallons Filled -
A15: Tank #59: Without Xp3 | B15: Date Of Fill - | C15: ------------------ | D15: Tank #73: Without Xp3 | E15: Date Of Fill -
A16: Odometer- | B16: Gallons Filled - | C16: ------------------ | D16: Odometer- | E16: Gallons Filled -
A17: Tank #60: Without Xp3 | B17: Date Of Fill - | C17: ------------------ | D17: Tank #74: Without Xp3 | E17: Date Of Fill -
A18: Odometer- | B18: Gallons Filled - | C18: ------------------ | D18: Odometer- | E18: Gallons Filled -
A19: Tank #61: Without Xp3 | B19: Date Of Fill - | C19: ------------------ | D19: Tank #75: Without Xp3 | E19: Date Of Fill -
A20: Odometer- | B20: Gallons Filled - | C20: ------------------ | D20: Odometer- | E20: Gallons Filled -
... A36: Odometer- | B36: Gallons Filled - | C36: ------------------ | D36: Odometer- | E36: Gallons Filled -
A37: Please Proceed To Tank #71 (Highlighted In Yellow Above) | C37: ------------------ | D37: Please Proceed To The Back Of This Page To Complete Tanks #84 To #94

Sheet NTFL-Pg 4
C1: ='TFL-PG 1'!C1 -> Company Name
C2: ='NTFL-PG 1'!C2 -> Driver Name/ID: | D2: ='NTFL-PG 1'!D2 -> Driver Name
C3: ='NTFL-PG 1'!C3 -> Vehicle ID/Number: | D3: ='NTFL-PG 1'!D3 -> 1234
C4: ='NTFL-PG 1'!C4 -> Consultant Name: | D4: ='NTFL-PG 1'!D4 -> Name
C5: ='NTFL-PG 1'!C5 -> Contact Number: | D5: ='NTFL-PG 1'!D5 -> Phone
C6: Diesel Fuel
B7: *When fueling, please fill each tank completely*
A8: Tanks #84 Thru #94 Without Xp3 | C8: ------------------ | D8: Please Complete The Form Below Following Your Final Tank
A9: Tank #84: Without Xp3 | B9: Date of Fill - | C9: ------------------
A10: Odometer- | B10: Gallons Filled - | C10: ------------------ | D10: Driver "Trial Completion" Verification Form
A11: Tank #85: Without Xp3 | B11: Date Of Fill - | C11: ------------------
A12: Odometer- | B12: Gallons Filled - | C12: ------------------ | D12: I, ___ , am verifying
A13: Tank #86: Without Xp3 | B13: Date Of Fill - | C13: ------------------ | D13: that the information provided In this fuel log is 100% accurate and this tracking
A14: Odometer- | B14: Gallons Filled - | C14: ------------------ | D14: was done at the time of each fill.
A15: Tank #87: Without Xp3 | B15: Date Of Fill - | C15: ------------------
A16: Odometer- | B16: Gallons Filled - | C16: ------------------
A17: Tank #88: Without Xp3 | B17: Date Of Fill - | C17: ------------------ | D17: Driver Signature: ______________________________________________________
A18: Odometer- | B18: Gallons Filled - | C18: ------------------
A19: Tank #89: Without Xp3 | B19: Date Of Fill - | C19: ------------------
A20: Odometer- | B20: Gallons Filled - | C20: ------------------ | D20: Driver Printed Name: __________________________________________________
A21: Tank #90: Without Xp3 | B21: Date Of Fill - | C21: ------------------
A22: Odometer- | B22: Gallons Filled - | C22: ------------------
A23: Tank #91: Without Xp3 | B23: Date Of Fill - | C23: ------------------ | D23: Date: ________________________________________________________________
A24: Odometer- | B24: Gallons Filled - | C24: ------------------
A25: Tank #92: Without Xp3 | B25: Date Of Fill - | C25: ------------------
A26: Odometer- | B26: Gallons Filled - | C26: ------------------ | D26: Thank You For Your Help & Cooperation
A27: Tank #93: Without Xp3 | B27: Date Of Fill - | C27: ------------------
A28: Odometer- | B28: Gallons Filled - | C28: ------------------ | D28: In Tracking This Important Information!
A29: Tank #94: Without Xp3 | B29: Date Of Fill - | C29: ------------------
A30: Odometer- | B30: Gallons Filled - | C30: ------------------
A31: Please Review & Sign The Information On The Top Right Side Of This Form | C31: ------------------ | D31: Please Return The Signed & Completed Fuel Log Following Final Tank - THANK YOU!
